BEGIN:VCALENDAR
VERSION:2.0
PRODID:-//Erbrée - ECPv6.15.20//NONSGML v1.0//EN
CALSCALE:GREGORIAN
METHOD:PUBLISH
X-ORIGINAL-URL:https://www.erbree.fr
X-WR-CALDESC:Évènements pour Erbrée
REFRESH-INTERVAL;VALUE=DURATION:PT1H
X-Robots-Tag:noindex
X-PUBLISHED-TTL:PT1H
BEGIN:VTIMEZONE
TZID:Europe/Paris
BEGIN:DAYLIGHT
TZOFFSETFROM:+0100
TZOFFSETTO:+0200
TZNAME:CEST
DTSTART:20250330T010000
END:DAYLIGHT
BEGIN:STANDARD
TZOFFSETFROM:+0200
TZOFFSETTO:+0100
TZNAME:CET
DTSTART:20251026T010000
END:STANDARD
BEGIN:DAYLIGHT
TZOFFSETFROM:+0100
TZOFFSETTO:+0200
TZNAME:CEST
DTSTART:20260329T010000
END:DAYLIGHT
BEGIN:STANDARD
TZOFFSETFROM:+0200
TZOFFSETTO:+0100
TZNAME:CET
DTSTART:20261025T010000
END:STANDARD
BEGIN:DAYLIGHT
TZOFFSETFROM:+0100
TZOFFSETTO:+0200
TZNAME:CEST
DTSTART:20270328T010000
END:DAYLIGHT
BEGIN:STANDARD
TZOFFSETFROM:+0200
TZOFFSETTO:+0100
TZNAME:CET
DTSTART:20271031T010000
END:STANDARD
END:VTIMEZONE
BEGIN:VEVENT
DTSTART;TZID=Europe/Paris:20260902T160000
DTEND;TZID=Europe/Paris:20260902T163000
DTSTAMP:20260421T234222
CREATED:20251218T181829Z
LAST-MODIFIED:20251218T181829Z
UID:29065-1788364800-1788366600@www.erbree.fr
SUMMARY:Bibliothèque : Raconte-moi une histoire !
DESCRIPTION:
URL:https://www.erbree.fr/agenda/bibliotheque-raconte-moi-une-histoire-17/
LOCATION:Bibliothèque\, Rue de Bretagne\, Erbrée\, 35500
ORGANIZER;CN="Biblioth%C3%A8que":MAILTO:biblio@erbree.fr
END:VEVENT
BEGIN:VEVENT
DTSTART;TZID=Europe/Paris:20260908T094500
DTEND;TZID=Europe/Paris:20260908T110000
DTSTAMP:20260421T234222
CREATED:20251028T174346Z
LAST-MODIFIED:20251028T174346Z
UID:28303-1788860700-1788865200@www.erbree.fr
SUMMARY:Relais Petite Enfance : Atelier d’éveil 0-3 ans
DESCRIPTION:Réservé aux professionnels(les) de la petite enfance\nSur inscription
URL:https://www.erbree.fr/agenda/relais-petite-enfance-atelier-deveil-0-3-ans-23/
LOCATION:Espace Multifonctions René Blandeau\, Ruelle des Lavandières\, ERBRÉE\, 35500
ORGANIZER;CN="Relais Petite Enfance (RPE)":MAILTO:rpe@chatillon-en-vendelais.fr
END:VEVENT
BEGIN:VEVENT
DTSTART;TZID=Europe/Paris:20260910T140000
DTEND;TZID=Europe/Paris:20260910T140000
DTSTAMP:20260421T234222
CREATED:20251028T181416Z
LAST-MODIFIED:20251028T181416Z
UID:28339-1789048800-1789048800@www.erbree.fr
SUMMARY:Club de la 2ème Jeunesse : Bal
DESCRIPTION:
URL:https://www.erbree.fr/agenda/club-de-la-2eme-jeunesse-bal-10/
LOCATION:Salle des fêtes\, Rue Pierre Simon\, Erbrée\, 35500
ORGANIZER;CN="Club de la 2%C3%A8me Jeunesse":MAILTO:alaincornee@aol.com
END:VEVENT
BEGIN:VEVENT
DTSTART;VALUE=DATE:20260921
DTEND;VALUE=DATE:20260922
DTSTAMP:20260421T234222
CREATED:20251218T182000Z
LAST-MODIFIED:20251218T182000Z
UID:29067-1789948800-1790035199@www.erbree.fr
SUMMARY:Erbrée-Rando : Randonnée Pédestre
DESCRIPTION:Le lieu de départ sera annoncé quelques jours avant la randonnée.\n 
URL:https://www.erbree.fr/agenda/erbree-rando-randonnee-pedestre-22/
ORGANIZER;CN="Erbr%C3%A9e-Rando":MAILTO:guesdon.marie-christine@wanadoo.fr ou joel.marquet27@gmail.com
END:VEVENT
BEGIN:VEVENT
DTSTART;TZID=Europe/Paris:20260922T094500
DTEND;TZID=Europe/Paris:20260922T110000
DTSTAMP:20260421T234222
CREATED:20251028T174458Z
LAST-MODIFIED:20251028T174458Z
UID:28305-1790070300-1790074800@www.erbree.fr
SUMMARY:Relais Petite Enfance : Atelier d’éveil 0-3 ans
DESCRIPTION:Réservé aux professionnels(les) de la petite enfance\nSur inscription
URL:https://www.erbree.fr/agenda/relais-petite-enfance-atelier-deveil-0-3-ans-24/
LOCATION:Espace Multifonctions René Blandeau\, Ruelle des Lavandières\, ERBRÉE\, 35500
ORGANIZER;CN="Relais Petite Enfance (RPE)":MAILTO:rpe@chatillon-en-vendelais.fr
END:VEVENT
END:VCALENDAR