BEGIN:VCALENDAR
VERSION:2.0
PRODID:-//Erbrée - ECPv6.15.20//NONSGML v1.0//EN
CALSCALE:GREGORIAN
METHOD:PUBLISH
X-WR-CALNAME:Erbrée
X-ORIGINAL-URL:https://www.erbree.fr
X-WR-CALDESC:Évènements pour Erbrée
REFRESH-INTERVAL;VALUE=DURATION:PT1H
X-Robots-Tag:noindex
X-PUBLISHED-TTL:PT1H
BEGIN:VTIMEZONE
TZID:Europe/Paris
BEGIN:DAYLIGHT
TZOFFSETFROM:+0100
TZOFFSETTO:+0200
TZNAME:CEST
DTSTART:20250330T010000
END:DAYLIGHT
BEGIN:STANDARD
TZOFFSETFROM:+0200
TZOFFSETTO:+0100
TZNAME:CET
DTSTART:20251026T010000
END:STANDARD
BEGIN:DAYLIGHT
TZOFFSETFROM:+0100
TZOFFSETTO:+0200
TZNAME:CEST
DTSTART:20260329T010000
END:DAYLIGHT
BEGIN:STANDARD
TZOFFSETFROM:+0200
TZOFFSETTO:+0100
TZNAME:CET
DTSTART:20261025T010000
END:STANDARD
BEGIN:DAYLIGHT
TZOFFSETFROM:+0100
TZOFFSETTO:+0200
TZNAME:CEST
DTSTART:20270328T010000
END:DAYLIGHT
BEGIN:STANDARD
TZOFFSETFROM:+0200
TZOFFSETTO:+0100
TZNAME:CET
DTSTART:20271031T010000
END:STANDARD
END:VTIMEZONE
BEGIN:VEVENT
DTSTART;TZID=Europe/Paris:20260303T094500
DTEND;TZID=Europe/Paris:20260303T110000
DTSTAMP:20260421T153058
CREATED:20251028T173439Z
LAST-MODIFIED:20251028T173439Z
UID:28287-1772531100-1772535600@www.erbree.fr
SUMMARY:Relais Petite Enfance : Atelier d’éveil 0-3 ans
DESCRIPTION:Réservé aux professionnels(les) de la petite enfance\nSur inscription
URL:https://www.erbree.fr/agenda/relais-petite-enfance-atelier-deveil-0-3-ans-10/
LOCATION:Espace Multifonctions René Blandeau\, Ruelle des Lavandières\, ERBRÉE\, 35500
ORGANIZER;CN="Relais Petite Enfance (RPE)":MAILTO:rpe@chatillon-en-vendelais.fr
END:VEVENT
BEGIN:VEVENT
DTSTART;TZID=Europe/Paris:20260303T193000
DTEND;TZID=Europe/Paris:20260303T213000
DTSTAMP:20260421T153058
CREATED:20251211T163222Z
LAST-MODIFIED:20260226T181210Z
UID:28879-1772566200-1772573400@www.erbree.fr
SUMMARY:Bibliothèque : Soirée relax
DESCRIPTION:
URL:https://www.erbree.fr/agenda/bibliotheque-tricot-papote-5/
LOCATION:Bibliothèque\, Rue de Bretagne\, Erbrée\, 35500
ORGANIZER;CN="Biblioth%C3%A8que":MAILTO:biblio@erbree.fr
END:VEVENT
BEGIN:VEVENT
DTSTART;TZID=Europe/Paris:20260304T140000
DTEND;TZID=Europe/Paris:20260304T160000
DTSTAMP:20260421T153058
CREATED:20251211T163339Z
LAST-MODIFIED:20260224T165218Z
UID:28881-1772632800-1772640000@www.erbree.fr
SUMMARY:Bibliothèque : La souris verte
DESCRIPTION:
URL:https://www.erbree.fr/agenda/bibliotheque-la-souris-verte-3/
LOCATION:Bibliothèque\, Rue de Bretagne\, Erbrée\, 35500
ORGANIZER;CN="Biblioth%C3%A8que":MAILTO:biblio@erbree.fr
END:VEVENT
BEGIN:VEVENT
DTSTART;TZID=Europe/Paris:20260304T160000
DTEND;TZID=Europe/Paris:20260304T163000
DTSTAMP:20260421T153058
CREATED:20251211T163545Z
LAST-MODIFIED:20251211T163545Z
UID:28883-1772640000-1772641800@www.erbree.fr
SUMMARY:Bibliothèque : Raconte-moi une histoire !
DESCRIPTION:
URL:https://www.erbree.fr/agenda/bibliotheque-raconte-moi-une-histoire-11/
LOCATION:Bibliothèque\, Rue de Bretagne\, Erbrée\, 35500
ORGANIZER;CN="Biblioth%C3%A8que":MAILTO:biblio@erbree.fr
END:VEVENT
BEGIN:VEVENT
DTSTART;TZID=Europe/Paris:20260304T200000
DTEND;TZID=Europe/Paris:20260304T200000
DTSTAMP:20260421T153058
CREATED:20260216T145004Z
LAST-MODIFIED:20260302T074643Z
UID:30323-1772654400-1772654400@www.erbree.fr
SUMMARY:Réunion du Conseil Municipal
DESCRIPTION:Le Conseil Municipal se réunira à la mairie \nLe MERCREDI 4 MARS à 20h\n  \nOrdre du jour :\n* Approbation du compte-rendu de la séance du 18/02/26\n* Réalisations dans le cadre des délégations accordées au Maire\n* Budgets 2026 (Commune – Lotissements)\n* Vote des taux d’imposition communaux 2026\n* Proposition de cession d’une portion du chemin de l’Orière\n* Questions diverses
URL:https://www.erbree.fr/agenda/reunion-du-conseil-municipal-13/
LOCATION:Mairie\, 12 rue de Bretagne\, Erbrée\, 35500
ORGANIZER;CN="Mairie":MAILTO:mairie@erbree.fr
END:VEVENT
BEGIN:VEVENT
DTSTART;VALUE=DATE:20260307
DTEND;VALUE=DATE:20260308
DTSTAMP:20260421T153058
CREATED:20251211T163700Z
LAST-MODIFIED:20260210T164307Z
UID:28885-1772841600-1772927999@www.erbree.fr
SUMMARY:L'Hermine EBM : Choucroute du foot
DESCRIPTION:
URL:https://www.erbree.fr/agenda/lhermine-ebm-choucroute-du-foot-2/
LOCATION:Salle des fêtes\, Rue Pierre Simon\, Erbrée\, 35500
ORGANIZER;CN="L'Hermine EBM":MAILTO:thierry.tireau@orange.fr
END:VEVENT
BEGIN:VEVENT
DTSTART;TZID=Europe/Paris:20260311T140000
DTEND;TZID=Europe/Paris:20260311T160000
DTSTAMP:20260421T153058
CREATED:20260224T165641Z
LAST-MODIFIED:20260224T165641Z
UID:30521-1773237600-1773244800@www.erbree.fr
SUMMARY:Bibliothèque : Tournoi Pokémon
DESCRIPTION:
URL:https://www.erbree.fr/agenda/bibliotheque-tournoi-pokemon-6/
LOCATION:Bibliothèque\, Rue de Bretagne\, Erbrée\, 35500
ORGANIZER;CN="Biblioth%C3%A8que":MAILTO:biblio@erbree.fr
END:VEVENT
BEGIN:VEVENT
DTSTART;TZID=Europe/Paris:20260312T140000
DTEND;TZID=Europe/Paris:20260312T140000
DTSTAMP:20260421T153058
CREATED:20251211T163841Z
LAST-MODIFIED:20260310T171428Z
UID:28887-1773324000-1773324000@www.erbree.fr
SUMMARY:Vitagym Erbrée/Mondevert : Le Bal est annulé
DESCRIPTION:
URL:https://www.erbree.fr/agenda/vitagym-erbree-mondevert-bal/
LOCATION:Salle des fêtes\, Rue Pierre Simon\, Erbrée\, 35500
ORGANIZER;CN="Vitagym Erbr%C3%A9e-Mondevert":MAILTO:rozemartine@orange.fr
END:VEVENT
BEGIN:VEVENT
DTSTART;TZID=Europe/Paris:20260313T100000
DTEND;TZID=Europe/Paris:20260313T120000
DTSTAMP:20260421T153058
CREATED:20251211T164001Z
LAST-MODIFIED:20260224T165509Z
UID:28889-1773396000-1773403200@www.erbree.fr
SUMMARY:Bibliothèque : La souris des champs
DESCRIPTION:
URL:https://www.erbree.fr/agenda/bibliotheque-la-souris-des-champs-3/
LOCATION:Bibliothèque\, Rue de Bretagne\, Erbrée\, 35500
ORGANIZER;CN="Biblioth%C3%A8que":MAILTO:biblio@erbree.fr
END:VEVENT
BEGIN:VEVENT
DTSTART;TZID=Europe/Paris:20260316T140000
DTEND;TZID=Europe/Paris:20260316T140000
DTSTAMP:20260421T153058
CREATED:20251211T164110Z
LAST-MODIFIED:20260312T162019Z
UID:28891-1773669600-1773669600@www.erbree.fr
SUMMARY:Erbrée-Rando : Randonnée Pédestre
DESCRIPTION:Départ 14h – Base nautique coté St M’Hervé.\nGoûter servi dans le hall Vitré Communauté\nApporter vos sièges.\n 
URL:https://www.erbree.fr/agenda/erbree-rando-randonnee-pedestre-14/
ORGANIZER;CN="Erbr%C3%A9e-Rando":MAILTO:guesdon.marie-christine@wanadoo.fr ou joel.marquet27@gmail.com
END:VEVENT
BEGIN:VEVENT
DTSTART;TZID=Europe/Paris:20260317T094500
DTEND;TZID=Europe/Paris:20260317T110000
DTSTAMP:20260421T153058
CREATED:20251028T173635Z
LAST-MODIFIED:20251028T173635Z
UID:28291-1773740700-1773745200@www.erbree.fr
SUMMARY:Relais Petite Enfance : Atelier d’éveil 0-3 ans
DESCRIPTION:Réservé aux professionnels(les) de la petite enfance\nSur inscription
URL:https://www.erbree.fr/agenda/relais-petite-enfance-atelier-deveil-0-3-ans-11/
LOCATION:Espace Multifonctions René Blandeau\, Ruelle des Lavandières\, ERBRÉE\, 35500
ORGANIZER;CN="Relais Petite Enfance (RPE)":MAILTO:rpe@chatillon-en-vendelais.fr
END:VEVENT
BEGIN:VEVENT
DTSTART;TZID=Europe/Paris:20260317T140000
DTEND;TZID=Europe/Paris:20260317T140000
DTSTAMP:20260421T153058
CREATED:20251218T175933Z
LAST-MODIFIED:20251218T175933Z
UID:29047-1773756000-1773756000@www.erbree.fr
SUMMARY:Club de la 2ème Jeunesse : Concours de belote
DESCRIPTION:
URL:https://www.erbree.fr/agenda/club-de-la-2eme-jeunesse-concours-de-belote/
LOCATION:Salle des fêtes\, Rue Pierre Simon\, Erbrée\, 35500
ORGANIZER;CN="Club de la 2%C3%A8me Jeunesse":MAILTO:alaincornee@aol.com
END:VEVENT
BEGIN:VEVENT
DTSTART;TZID=Europe/Paris:20260318T140000
DTEND;TZID=Europe/Paris:20260318T160000
DTSTAMP:20260421T153058
CREATED:20260224T165824Z
LAST-MODIFIED:20260224T165824Z
UID:30523-1773842400-1773849600@www.erbree.fr
SUMMARY:Bibliothèque : Atelier BD/Manga
DESCRIPTION:
URL:https://www.erbree.fr/agenda/bibliotheque-atelier-bd-manga-2/
LOCATION:Bibliothèque\, Rue de Bretagne\, Erbrée\, 35500
ORGANIZER;CN="Biblioth%C3%A8que":MAILTO:biblio@erbree.fr
END:VEVENT
BEGIN:VEVENT
DTSTART;TZID=Europe/Paris:20260320T200000
DTEND;TZID=Europe/Paris:20260320T200000
DTSTAMP:20260421T153058
CREATED:20260317T172641Z
LAST-MODIFIED:20260317T172641Z
UID:31010-1774036800-1774036800@www.erbree.fr
SUMMARY:Mairie - Conseil Municipal
DESCRIPTION:Le Conseil Municipal se réunira à la mairie \nLe VENDREDI 20 MARS à 20h\n  \nOrdre du jour :\n* Installation du Conseil Municipal\n* Election du Maire\n* Fixation du nombre des adjoints\n* Elections des adjoints\n* La charte de l’élu local\n* Les indemnités\n* Les délégations du Conseil Municipal au Maire
URL:https://www.erbree.fr/agenda/mairie-conseil-municipal/
LOCATION:Mairie\, 12 rue de Bretagne\, Erbrée\, 35500
ORGANIZER;CN="Mairie":MAILTO:mairie@erbree.fr
END:VEVENT
BEGIN:VEVENT
DTSTART;TZID=Europe/Paris:20260325T140000
DTEND;TZID=Europe/Paris:20260325T160000
DTSTAMP:20260421T153058
CREATED:20260224T170036Z
LAST-MODIFIED:20260224T170036Z
UID:30525-1774447200-1774454400@www.erbree.fr
SUMMARY:Bibliothèque : Jeux de société !
DESCRIPTION:
URL:https://www.erbree.fr/agenda/bibliotheque-jeux-de-societe-4/
LOCATION:Bibliothèque\, Rue de Bretagne\, Erbrée\, 35500
ORGANIZER;CN="Biblioth%C3%A8que":MAILTO:biblio@erbree.fr
END:VEVENT
BEGIN:VEVENT
DTSTART;TZID=Europe/Paris:20260327T140000
DTEND;TZID=Europe/Paris:20260327T170000
DTSTAMP:20260421T153058
CREATED:20260317T175837Z
LAST-MODIFIED:20260317T181140Z
UID:31024-1774620000-1774630800@www.erbree.fr
SUMMARY:Bibliothèque : Ligtpainting
DESCRIPTION:  \nL’inscription préalable est nécessaire pour certaines animations\n  \nIl est possible de s’inscrire : \n\nen ligne : Bibliothèque – Inscription en ligne\npar mail : biblio@erbree.fr\npar téléphone : 09 62 58 60 21\n\n \n  \n\n\nBiblio
URL:https://www.erbree.fr/agenda/bibliotheque-ligtpainting/
LOCATION:Bibliothèque\, Rue de Bretagne\, Erbrée\, 35500
ORGANIZER;CN="Biblioth%C3%A8que":MAILTO:biblio@erbree.fr
END:VEVENT
BEGIN:VEVENT
DTSTART;TZID=Europe/Paris:20260331T094500
DTEND;TZID=Europe/Paris:20260331T110000
DTSTAMP:20260421T153058
CREATED:20251028T173744Z
LAST-MODIFIED:20251028T173744Z
UID:28293-1774950300-1774954800@www.erbree.fr
SUMMARY:Relais Petite Enfance : Atelier d’éveil 0-3 ans
DESCRIPTION:Réservé aux professionnels(les) de la petite enfance\nSur inscription
URL:https://www.erbree.fr/agenda/relais-petite-enfance-atelier-deveil-0-3-ans-12/
LOCATION:Espace Multifonctions René Blandeau\, Ruelle des Lavandières\, ERBRÉE\, 35500
ORGANIZER;CN="Relais Petite Enfance (RPE)":MAILTO:rpe@chatillon-en-vendelais.fr
END:VEVENT
END:VCALENDAR