BEGIN:VCALENDAR
VERSION:2.0
PRODID:-//Erbrée - ECPv6.15.20//NONSGML v1.0//EN
CALSCALE:GREGORIAN
METHOD:PUBLISH
X-WR-CALNAME:Erbrée
X-ORIGINAL-URL:https://www.erbree.fr
X-WR-CALDESC:Évènements pour Erbrée
REFRESH-INTERVAL;VALUE=DURATION:PT1H
X-Robots-Tag:noindex
X-PUBLISHED-TTL:PT1H
BEGIN:VTIMEZONE
TZID:Europe/Paris
BEGIN:DAYLIGHT
TZOFFSETFROM:+0100
TZOFFSETTO:+0200
TZNAME:CEST
DTSTART:20250330T010000
END:DAYLIGHT
BEGIN:STANDARD
TZOFFSETFROM:+0200
TZOFFSETTO:+0100
TZNAME:CET
DTSTART:20251026T010000
END:STANDARD
BEGIN:DAYLIGHT
TZOFFSETFROM:+0100
TZOFFSETTO:+0200
TZNAME:CEST
DTSTART:20260329T010000
END:DAYLIGHT
BEGIN:STANDARD
TZOFFSETFROM:+0200
TZOFFSETTO:+0100
TZNAME:CET
DTSTART:20261025T010000
END:STANDARD
BEGIN:DAYLIGHT
TZOFFSETFROM:+0100
TZOFFSETTO:+0200
TZNAME:CEST
DTSTART:20270328T010000
END:DAYLIGHT
BEGIN:STANDARD
TZOFFSETFROM:+0200
TZOFFSETTO:+0100
TZNAME:CET
DTSTART:20271031T010000
END:STANDARD
END:VTIMEZONE
BEGIN:VEVENT
DTSTART;TZID=Europe/Paris:20260106T094500
DTEND;TZID=Europe/Paris:20260106T110000
DTSTAMP:20260421T172720
CREATED:20251028T173211Z
LAST-MODIFIED:20251028T173211Z
UID:28283-1767692700-1767697200@www.erbree.fr
SUMMARY:Relais Petite Enfance : Atelier d’éveil 0-3 ans
DESCRIPTION:Réservé aux professionnels(les) de la petite enfance\nSur inscription
URL:https://www.erbree.fr/agenda/relais-petite-enfance-atelier-deveil-0-3-ans-7/
LOCATION:Espace Multifonctions René Blandeau\, Ruelle des Lavandières\, ERBRÉE\, 35500
ORGANIZER;CN="Relais Petite Enfance (RPE)":MAILTO:rpe@chatillon-en-vendelais.fr
END:VEVENT
BEGIN:VEVENT
DTSTART;TZID=Europe/Paris:20260106T200000
DTEND;TZID=Europe/Paris:20260106T213000
DTSTAMP:20260421T172720
CREATED:20251209T175748Z
LAST-MODIFIED:20251230T151036Z
UID:28805-1767729600-1767735000@www.erbree.fr
SUMMARY:Bibliothèque : Tricot Papote
DESCRIPTION:
URL:https://www.erbree.fr/agenda/bibliotheque-tricot-papote-3/
LOCATION:Bibliothèque\, Rue de Bretagne\, Erbrée\, 35500
ORGANIZER;CN="Biblioth%C3%A8que":MAILTO:biblio@erbree.fr
END:VEVENT
BEGIN:VEVENT
DTSTART;TZID=Europe/Paris:20260107T140000
DTEND;TZID=Europe/Paris:20260107T160000
DTSTAMP:20260421T172720
CREATED:20251209T180059Z
LAST-MODIFIED:20251230T144144Z
UID:28807-1767794400-1767801600@www.erbree.fr
SUMMARY:Bibliothèque : La souris verte
DESCRIPTION:
URL:https://www.erbree.fr/agenda/bibliotheque-la-souris-verte/
LOCATION:Bibliothèque\, Rue de Bretagne\, Erbrée\, 35500
ORGANIZER;CN="Biblioth%C3%A8que":MAILTO:biblio@erbree.fr
END:VEVENT
BEGIN:VEVENT
DTSTART;TZID=Europe/Paris:20260107T160000
DTEND;TZID=Europe/Paris:20260107T163000
DTSTAMP:20260421T172720
CREATED:20251211T112327Z
LAST-MODIFIED:20251211T112327Z
UID:28846-1767801600-1767803400@www.erbree.fr
SUMMARY:Bibliothèque : Raconte-moi une histoire !
DESCRIPTION:
URL:https://www.erbree.fr/agenda/bibliotheque-raconte-moi-une-histoire-9/
LOCATION:Bibliothèque\, Rue de Bretagne\, Erbrée\, 35500
ORGANIZER;CN="Biblioth%C3%A8que":MAILTO:biblio@erbree.fr
END:VEVENT
BEGIN:VEVENT
DTSTART;TZID=Europe/Paris:20260109T100000
DTEND;TZID=Europe/Paris:20260109T120000
DTSTAMP:20260421T172720
CREATED:20251209T180305Z
LAST-MODIFIED:20251230T144350Z
UID:28809-1767952800-1767960000@www.erbree.fr
SUMMARY:Bibliothèque : La souris des Champs
DESCRIPTION:
URL:https://www.erbree.fr/agenda/bibliotheque-la-souris-des-champs/
LOCATION:Bibliothèque\, Rue de Bretagne\, Erbrée\, 35500
ORGANIZER;CN="Biblioth%C3%A8que":MAILTO:biblio@erbree.fr
END:VEVENT
BEGIN:VEVENT
DTSTART;TZID=Europe/Paris:20260109T193000
DTEND;TZID=Europe/Paris:20260109T193000
DTSTAMP:20260421T172720
CREATED:20251204T192532Z
LAST-MODIFIED:20251230T142727Z
UID:28750-1767987000-1767987000@www.erbree.fr
SUMMARY:Mairie : Vœux de la Municipalité
DESCRIPTION:
URL:https://www.erbree.fr/agenda/mairie-voeux-de-la-municipalite/
LOCATION:Salle des fêtes\, Rue Pierre Simon\, Erbrée\, 35500
ORGANIZER;CN="Mairie":MAILTO:mairie@erbree.fr
END:VEVENT
BEGIN:VEVENT
DTSTART;TZID=Europe/Paris:20260114T200000
DTEND;TZID=Europe/Paris:20260114T200000
DTSTAMP:20260421T172720
CREATED:20251218T182353Z
LAST-MODIFIED:20260110T080755Z
UID:29069-1768420800-1768420800@www.erbree.fr
SUMMARY:Réunion du Conseil Municipal
DESCRIPTION:Le Conseil Municipal se réunira à la mairie \nLe MERCREDI 14 JANVIER à 20h\n  \nOrdre du jour :\n* Approbation du compte-rendu de la séance du 17/12/25\n* Réalisations dans le cadre des délégations accordées au Maire\n* Projet espace santé – Demande DETR\n* Acquisition terrain à la Serverie\n* Acquisition parcelle de terrain rue de la Valière\n* Questions diverses
URL:https://www.erbree.fr/agenda/reunion-du-conseil-municipal-11/
LOCATION:Mairie\, 12 rue de Bretagne\, Erbrée\, 35500
ORGANIZER;CN="Mairie":MAILTO:mairie@erbree.fr
END:VEVENT
BEGIN:VEVENT
DTSTART;TZID=Europe/Paris:20260119T140000
DTEND;TZID=Europe/Paris:20260119T140000
DTSTAMP:20260421T172720
CREATED:20251209T180702Z
LAST-MODIFIED:20260115T182322Z
UID:28812-1768831200-1768831200@www.erbree.fr
SUMMARY:Erbrée-Rando : Randonnée pédestre
DESCRIPTION:Erbrée Rando vous souhaite leurs vœux 2026. \n14h départ rando de la salle des fêtes\, 2 circuits 8 et 6 kms\n16h15 galette des rois
URL:https://www.erbree.fr/agenda/erbree-rando-randonnee-pedestre-7/
LOCATION:Salle des fêtes\, Rue Pierre Simon\, Erbrée\, 35500
ORGANIZER;CN="Erbr%C3%A9e-Rando":MAILTO:guesdon.marie-christine@wanadoo.fr ou joel.marquet27@gmail.com
END:VEVENT
BEGIN:VEVENT
DTSTART;TZID=Europe/Paris:20260120T094500
DTEND;TZID=Europe/Paris:20260120T110000
DTSTAMP:20260421T172720
CREATED:20251028T173309Z
LAST-MODIFIED:20251028T173309Z
UID:28285-1768902300-1768906800@www.erbree.fr
SUMMARY:Relais Petite Enfance : Atelier d’éveil 0-3 ans
DESCRIPTION:Réservé aux professionnels(les) de la petite enfance\nSur inscription
URL:https://www.erbree.fr/agenda/relais-petite-enfance-atelier-deveil-0-3-ans-8/
LOCATION:Espace Multifonctions René Blandeau\, Ruelle des Lavandières\, ERBRÉE\, 35500
ORGANIZER;CN="Relais Petite Enfance (RPE)":MAILTO:rpe@chatillon-en-vendelais.fr
END:VEVENT
BEGIN:VEVENT
DTSTART;TZID=Europe/Paris:20260124T203000
DTEND;TZID=Europe/Paris:20260124T203000
DTSTAMP:20260421T172720
CREATED:20251209T181230Z
LAST-MODIFIED:20260108T182258Z
UID:28815-1769286600-1769286600@www.erbree.fr
SUMMARY:Théâtre "Les sans Clocher" - Représentation
DESCRIPTION:
URL:https://www.erbree.fr/agenda/theatre-les-sans-clocher-representation-7/
LOCATION:Salle des fêtes\, Rue Pierre Simon\, Erbrée\, 35500
ORGANIZER;CN="Th%C3%A9%C3%A2tre 'Les sans Clocher'":MAILTO:lessansclochererbree@gmail.com
END:VEVENT
BEGIN:VEVENT
DTSTART;TZID=Europe/Paris:20260125T143000
DTEND;TZID=Europe/Paris:20260125T143000
DTSTAMP:20260421T172720
CREATED:20251209T181310Z
LAST-MODIFIED:20260108T182435Z
UID:28818-1769351400-1769351400@www.erbree.fr
SUMMARY:Théâtre "Les sans Clocher" - Représentation
DESCRIPTION:
URL:https://www.erbree.fr/agenda/theatre-les-sans-clocher-representation-8/
LOCATION:Salle des fêtes\, Rue Pierre Simon\, Erbrée\, 35500
ORGANIZER;CN="Th%C3%A9%C3%A2tre 'Les sans Clocher'":MAILTO:lessansclochererbree@gmail.com
END:VEVENT
BEGIN:VEVENT
DTSTART;TZID=Europe/Paris:20260130T203000
DTEND;TZID=Europe/Paris:20260130T203000
DTSTAMP:20260421T172720
CREATED:20251209T181349Z
LAST-MODIFIED:20260108T182536Z
UID:28820-1769805000-1769805000@www.erbree.fr
SUMMARY:Théâtre "Les sans Clocher" - Représentation
DESCRIPTION:
URL:https://www.erbree.fr/agenda/theatre-les-sans-clocher-representation-9/
LOCATION:Salle des fêtes\, Rue Pierre Simon\, Erbrée\, 35500
ORGANIZER;CN="Th%C3%A9%C3%A2tre 'Les sans Clocher'":MAILTO:lessansclochererbree@gmail.com
END:VEVENT
BEGIN:VEVENT
DTSTART;TZID=Europe/Paris:20260131T203000
DTEND;TZID=Europe/Paris:20260131T203000
DTSTAMP:20260421T172720
CREATED:20251209T181430Z
LAST-MODIFIED:20260108T182634Z
UID:28822-1769891400-1769891400@www.erbree.fr
SUMMARY:Théâtre "Les sans Clocher" - Représentation
DESCRIPTION:
URL:https://www.erbree.fr/agenda/theatre-les-sans-clocher-representation-10/
LOCATION:Salle des fêtes\, Rue Pierre Simon\, Erbrée\, 35500
ORGANIZER;CN="Th%C3%A9%C3%A2tre 'Les sans Clocher'":MAILTO:lessansclochererbree@gmail.com
END:VEVENT
END:VCALENDAR