BEGIN:VCALENDAR
VERSION:2.0
PRODID:-//Erbrée - ECPv6.15.20//NONSGML v1.0//EN
CALSCALE:GREGORIAN
METHOD:PUBLISH
X-WR-CALNAME:Erbrée
X-ORIGINAL-URL:https://www.erbree.fr
X-WR-CALDESC:Évènements pour Erbrée
REFRESH-INTERVAL;VALUE=DURATION:PT1H
X-Robots-Tag:noindex
X-PUBLISHED-TTL:PT1H
BEGIN:VTIMEZONE
TZID:Europe/Paris
BEGIN:DAYLIGHT
TZOFFSETFROM:+0100
TZOFFSETTO:+0200
TZNAME:CEST
DTSTART:20240331T010000
END:DAYLIGHT
BEGIN:STANDARD
TZOFFSETFROM:+0200
TZOFFSETTO:+0100
TZNAME:CET
DTSTART:20241027T010000
END:STANDARD
BEGIN:DAYLIGHT
TZOFFSETFROM:+0100
TZOFFSETTO:+0200
TZNAME:CEST
DTSTART:20250330T010000
END:DAYLIGHT
BEGIN:STANDARD
TZOFFSETFROM:+0200
TZOFFSETTO:+0100
TZNAME:CET
DTSTART:20251026T010000
END:STANDARD
BEGIN:DAYLIGHT
TZOFFSETFROM:+0100
TZOFFSETTO:+0200
TZNAME:CEST
DTSTART:20260329T010000
END:DAYLIGHT
BEGIN:STANDARD
TZOFFSETFROM:+0200
TZOFFSETTO:+0100
TZNAME:CET
DTSTART:20261025T010000
END:STANDARD
END:VTIMEZONE
BEGIN:VEVENT
DTSTART;TZID=Europe/Paris:20251001T160000
DTEND;TZID=Europe/Paris:20251001T163000
DTSTAMP:20260421T234816
CREATED:20250102T184511Z
LAST-MODIFIED:20250102T184511Z
UID:25061-1759334400-1759336200@www.erbree.fr
SUMMARY:Bibliothèque : Raconte-moi une histoire !
DESCRIPTION:
URL:https://www.erbree.fr/agenda/bibliotheque-raconte-moi-une-histoire-7/
LOCATION:Bibliothèque\, Rue de Bretagne\, Erbrée\, 35500
ORGANIZER;CN="Biblioth%C3%A8que":MAILTO:biblio@erbree.fr
END:VEVENT
BEGIN:VEVENT
DTSTART;TZID=Europe/Paris:20251007T200000
DTEND;TZID=Europe/Paris:20251007T213000
DTSTAMP:20260421T234816
CREATED:20250911T173523Z
LAST-MODIFIED:20250911T173523Z
UID:27740-1759867200-1759872600@www.erbree.fr
SUMMARY:Bibliothèque : Tricot Papote
DESCRIPTION:
URL:https://www.erbree.fr/agenda/bibliotheque-tricot-papote/
LOCATION:Bibliothèque\, Rue de Bretagne\, Erbrée\, 35500
ORGANIZER;CN="Biblioth%C3%A8que":MAILTO:biblio@erbree.fr
END:VEVENT
BEGIN:VEVENT
DTSTART;TZID=Europe/Paris:20251008T140000
DTEND;TZID=Europe/Paris:20251008T160000
DTSTAMP:20260421T234816
CREATED:20250911T171609Z
LAST-MODIFIED:20250930T162422Z
UID:27732-1759932000-1759939200@www.erbree.fr
SUMMARY:Bibliothèque : Avions en papier
DESCRIPTION:Gratuit !\nInscriptions aux horaires d’ouverture\nou par téléphone : 09 62 58 60 21\npar mail : biblio@erbree.fr \n 
URL:https://www.erbree.fr/agenda/bibliotheque-avions-en-papier/
LOCATION:Bibliothèque\, Rue de Bretagne\, Erbrée\, 35500
ORGANIZER;CN="Biblioth%C3%A8que":MAILTO:biblio@erbree.fr
END:VEVENT
BEGIN:VEVENT
DTSTART;TZID=Europe/Paris:20251009T140000
DTEND;TZID=Europe/Paris:20251009T140000
DTSTAMP:20260421T234816
CREATED:20250102T184625Z
LAST-MODIFIED:20251028T180016Z
UID:25063-1760018400-1760018400@www.erbree.fr
SUMMARY:Club de la 2ème Jeunesse : Bal
DESCRIPTION:
URL:https://www.erbree.fr/agenda/club-de-la-2eme-jeunesse-bal-16/
LOCATION:Salle des fêtes\, Rue Pierre Simon\, Erbrée\, 35500
ORGANIZER;CN="Club de la 2%C3%A8me Jeunesse":MAILTO:alaincornee@aol.com
END:VEVENT
BEGIN:VEVENT
DTSTART;TZID=Europe/Paris:20251014T094500
DTEND;TZID=Europe/Paris:20251014T110000
DTSTAMP:20260421T234816
CREATED:20250102T184854Z
LAST-MODIFIED:20250102T184854Z
UID:25065-1760435100-1760439600@www.erbree.fr
SUMMARY:Relais Petite Enfance : Atelier d’éveil 0-3 ans
DESCRIPTION:Réservé aux professionnels(les) de la petite enfance\nSur inscription
URL:https://www.erbree.fr/agenda/relais-petite-enfance-atelier-deveil-0-3-ans-27/
LOCATION:Espace Multifonctions René Blandeau\, Ruelle des Lavandières\, ERBRÉE\, 35500
ORGANIZER;CN="Relais Petite Enfance (RPE)":MAILTO:rpe@chatillon-en-vendelais.fr
END:VEVENT
BEGIN:VEVENT
DTSTART;TZID=Europe/Paris:20251014T140000
DTEND;TZID=Europe/Paris:20251014T140000
DTSTAMP:20260421T234816
CREATED:20250102T185006Z
LAST-MODIFIED:20250102T185006Z
UID:25067-1760450400-1760450400@www.erbree.fr
SUMMARY:Club de la 2ème Jeunesse : Concours de Belote
DESCRIPTION:
URL:https://www.erbree.fr/agenda/club-de-la-2eme-jeunesse-concours-de-belote-5/
LOCATION:Salle des fêtes\, Rue Pierre Simon\, Erbrée\, 35500
ORGANIZER;CN="Club de la 2%C3%A8me Jeunesse":MAILTO:alaincornee@aol.com
END:VEVENT
BEGIN:VEVENT
DTSTART;TZID=Europe/Paris:20251015T140000
DTEND;TZID=Europe/Paris:20251015T160000
DTSTAMP:20260421T234816
CREATED:20250911T171908Z
LAST-MODIFIED:20250930T162713Z
UID:27734-1760536800-1760544000@www.erbree.fr
SUMMARY:Bibliothèque : Tournoi Pokémon
DESCRIPTION:Gratuit !\nInscriptions aux horaires d’ouverture\nou par téléphone : 09 62 58 60 21\npar mail : biblio@erbree.fr \n 
URL:https://www.erbree.fr/agenda/bibliotheque-tournoi-pokemon-5/
LOCATION:Bibliothèque\, Rue de Bretagne\, Erbrée\, 35500
ORGANIZER;CN="Biblioth%C3%A8que":MAILTO:biblio@erbree.fr
END:VEVENT
BEGIN:VEVENT
DTSTART;TZID=Europe/Paris:20251015T200000
DTEND;TZID=Europe/Paris:20251015T200000
DTSTAMP:20260421T234816
CREATED:20251010T113832Z
LAST-MODIFIED:20251010T113832Z
UID:28093-1760558400-1760558400@www.erbree.fr
SUMMARY:Mairie : Réunion du Conseil Municipal
DESCRIPTION:Le Conseil Municipal se réunira à la mairie \nLe MERCREDI 15 OCTOBRE à 20h\n  \nOrdre du jour :\n* Approbation du compte-rendu de la séance du 11/09/2025\n* Réalisations dans le cadre des délégations accordées au Maire\n* Projet Espace Santé : choix du maître d’œuvre\n* Requalification et sécurisation du bourg : demande de financement/Département\n* Voie verte : demande de financement/Vitré Communauté\n* Plan local d’urbanisme : poursuite des procédures par Vitré Communauté\n* Proposition de cession d’un ancien chemin à la Huperie\n* Avis sur demande d’autorisation environnementale Société Laitière de Vitré\n* Participation complémentaire santé agents\n* Questions diverses
URL:https://www.erbree.fr/agenda/mairie-reunion-du-conseil-municipal/
LOCATION:Mairie\, 12 rue de Bretagne\, Erbrée\, 35500
END:VEVENT
BEGIN:VEVENT
DTSTART;TZID=Europe/Paris:20251018T140000
DTEND;TZID=Europe/Paris:20251018T180000
DTSTAMP:20260421T234816
CREATED:20250927T084532Z
LAST-MODIFIED:20250927T084731Z
UID:27961-1760796000-1760810400@www.erbree.fr
SUMMARY:Fête de l'Automne
DESCRIPTION:
URL:https://www.erbree.fr/agenda/fete-de-lautomne/
LOCATION:Jardin pédagogique “Au Fil des Saisons”
END:VEVENT
BEGIN:VEVENT
DTSTART;VALUE=DATE:20251020
DTEND;VALUE=DATE:20251021
DTSTAMP:20260421T234816
CREATED:20250102T185435Z
LAST-MODIFIED:20250327T190210Z
UID:25071-1760918400-1761004799@www.erbree.fr
SUMMARY:Erbrée-Rando : Randonnée Pédestre
DESCRIPTION:Le lieu de départ sera annoncé quelques jours avant la randonnée.\n 
URL:https://www.erbree.fr/agenda/erbree-rando-randonnee-pedestre-8/
ORGANIZER;CN="Erbr%C3%A9e-Rando":MAILTO:guesdon.marie-christine@wanadoo.fr ou joel.marquet27@gmail.com
END:VEVENT
BEGIN:VEVENT
DTSTART;TZID=Europe/Paris:20251021T103000
DTEND;TZID=Europe/Paris:20251021T113000
DTSTAMP:20260421T234816
CREATED:20250911T172144Z
LAST-MODIFIED:20251014T170704Z
UID:27736-1761042600-1761046200@www.erbree.fr
SUMMARY:Bibliothèque : Lecture et atelier manuel
DESCRIPTION:Gratuit !\nInscriptions aux horaires d’ouverture\nou par téléphone : 09 62 58 60 21\npar mail : biblio@erbree.fr\n 
URL:https://www.erbree.fr/agenda/bibliotheque-lecture-et-atelier-manuel/
LOCATION:Bibliothèque\, Rue de Bretagne\, Erbrée\, 35500
ORGANIZER;CN="Biblioth%C3%A8que":MAILTO:biblio@erbree.fr
END:VEVENT
BEGIN:VEVENT
DTSTART;TZID=Europe/Paris:20251021T140000
DTEND;TZID=Europe/Paris:20251021T160000
DTSTAMP:20260421T234816
CREATED:20250911T174208Z
LAST-MODIFIED:20251014T171558Z
UID:27747-1761055200-1761062400@www.erbree.fr
SUMMARY:Bibliothèque : Club Manga
DESCRIPTION:Gratuit !\nInscriptions aux horaires d’ouverture\nou par téléphone : 09 62 58 60 21\npar mail : biblio@erbree.fr\n 
URL:https://www.erbree.fr/agenda/bibliotheque-club-manga-2/
LOCATION:Bibliothèque\, Rue de Bretagne\, Erbrée\, 35500
ORGANIZER;CN="Biblioth%C3%A8que":MAILTO:biblio@erbree.fr
END:VEVENT
BEGIN:VEVENT
DTSTART;TZID=Europe/Paris:20251022T140000
DTEND;TZID=Europe/Paris:20251022T160000
DTSTAMP:20260421T234816
CREATED:20250911T172431Z
LAST-MODIFIED:20251016T172434Z
UID:27738-1761141600-1761148800@www.erbree.fr
SUMMARY:Bibliothèque : Atelier Créatif
DESCRIPTION:Gratuit !\nInscriptions aux horaires d’ouverture\nou par téléphone : 09 62 58 60 21\npar mail : biblio@erbree.fr\n 
URL:https://www.erbree.fr/agenda/bibliotheque-atelier-creatif-2/
LOCATION:Bibliothèque\, Rue de Bretagne\, Erbrée\, 35500
ORGANIZER;CN="Biblioth%C3%A8que":MAILTO:biblio@erbree.fr
END:VEVENT
BEGIN:VEVENT
DTSTART;TZID=Europe/Paris:20251022T193000
DTEND;TZID=Europe/Paris:20251022T220000
DTSTAMP:20260421T234816
CREATED:20250911T173742Z
LAST-MODIFIED:20251016T172708Z
UID:27743-1761161400-1761170400@www.erbree.fr
SUMMARY:Bibliothèque : Soirée Jeux de société
DESCRIPTION:Gratuit !\nInscriptions aux horaires d’ouverture\nou par téléphone : 09 62 58 60 21\npar mail : biblio@erbree.fr\n 
URL:https://www.erbree.fr/agenda/bibliotheque-soiree-jeux-de-societe/
LOCATION:Bibliothèque\, Rue de Bretagne\, Erbrée\, 35500
ORGANIZER;CN="Biblioth%C3%A8que":MAILTO:biblio@erbree.fr
END:VEVENT
BEGIN:VEVENT
DTSTART;TZID=Europe/Paris:20251024T160000
DTEND;TZID=Europe/Paris:20251024T180000
DTSTAMP:20260421T234816
CREATED:20250911T173937Z
LAST-MODIFIED:20251016T173147Z
UID:27745-1761321600-1761328800@www.erbree.fr
SUMMARY:Bibliothèque : Tournoi de jeu vidéo
DESCRIPTION:Gratuit !\nInscriptions aux horaires d’ouverture\nou par téléphone : 09 62 58 60 21\npar mail : biblio@erbree.fr\n 
URL:https://www.erbree.fr/agenda/bibliotheque-tournoi-de-jeu-video/
LOCATION:Bibliothèque\, Rue de Bretagne\, Erbrée\, 35500
ORGANIZER;CN="Biblioth%C3%A8que":MAILTO:biblio@erbree.fr
END:VEVENT
BEGIN:VEVENT
DTSTART;VALUE=DATE:20251031
DTEND;VALUE=DATE:20251101
DTSTAMP:20260421T234816
CREATED:20250102T185601Z
LAST-MODIFIED:20250930T160620Z
UID:25073-1761868800-1761955199@www.erbree.fr
SUMMARY:La Vie en Tête : Soirée Halloween
DESCRIPTION:
URL:https://www.erbree.fr/agenda/la-vie-en-tete-soiree-halloween-2/
LOCATION:Salle des fêtes\, Rue Pierre Simon\, Erbrée\, 35500
ORGANIZER;CN="La Vie en T%C3%AAte":MAILTO:lavieentete@gmail.com
END:VEVENT
BEGIN:VEVENT
DTSTART;TZID=Europe/Paris:20251031T190000
DTEND;TZID=Europe/Paris:20251031T210000
DTSTAMP:20260421T234816
CREATED:20250911T174514Z
LAST-MODIFIED:20251023T171226Z
UID:27749-1761937200-1761944400@www.erbree.fr
SUMMARY:Bibliothèque : Soirée Télé/Pizza
DESCRIPTION:3 €\nInscriptions aux horaires d’ouverture\nou par téléphone : 09 62 58 60 21\npar mail : biblio@erbree.fr\n 
URL:https://www.erbree.fr/agenda/bibliotheque-soiree-tele-pizza/
LOCATION:Bibliothèque\, Rue de Bretagne\, Erbrée\, 35500
ORGANIZER;CN="Biblioth%C3%A8que":MAILTO:biblio@erbree.fr
END:VEVENT
END:VCALENDAR