BEGIN:VCALENDAR
VERSION:2.0
PRODID:-//Erbrée - ECPv6.15.20//NONSGML v1.0//EN
CALSCALE:GREGORIAN
METHOD:PUBLISH
X-ORIGINAL-URL:https://www.erbree.fr
X-WR-CALDESC:Évènements pour Erbrée
REFRESH-INTERVAL;VALUE=DURATION:PT1H
X-Robots-Tag:noindex
X-PUBLISHED-TTL:PT1H
BEGIN:VTIMEZONE
TZID:Europe/Paris
BEGIN:DAYLIGHT
TZOFFSETFROM:+0100
TZOFFSETTO:+0200
TZNAME:CEST
DTSTART:20240331T010000
END:DAYLIGHT
BEGIN:STANDARD
TZOFFSETFROM:+0200
TZOFFSETTO:+0100
TZNAME:CET
DTSTART:20241027T010000
END:STANDARD
BEGIN:DAYLIGHT
TZOFFSETFROM:+0100
TZOFFSETTO:+0200
TZNAME:CEST
DTSTART:20250330T010000
END:DAYLIGHT
BEGIN:STANDARD
TZOFFSETFROM:+0200
TZOFFSETTO:+0100
TZNAME:CET
DTSTART:20251026T010000
END:STANDARD
BEGIN:DAYLIGHT
TZOFFSETFROM:+0100
TZOFFSETTO:+0200
TZNAME:CEST
DTSTART:20260329T010000
END:DAYLIGHT
BEGIN:STANDARD
TZOFFSETFROM:+0200
TZOFFSETTO:+0100
TZNAME:CET
DTSTART:20261025T010000
END:STANDARD
END:VTIMEZONE
BEGIN:VEVENT
DTSTART;TZID=Europe/Paris:20250902T094500
DTEND;TZID=Europe/Paris:20250902T110000
DTSTAMP:20260422T011932
CREATED:20250102T183151Z
LAST-MODIFIED:20250102T183151Z
UID:25047-1756806300-1756810800@www.erbree.fr
SUMMARY:Relais Petite Enfance : Atelier d’éveil 0-3 ans
DESCRIPTION:Réservé aux professionnels(les) de la petite enfance\nSur inscription
URL:https://www.erbree.fr/agenda/relais-petite-enfance-atelier-deveil-0-3-ans-18/
LOCATION:Espace Multifonctions René Blandeau\, Ruelle des Lavandières\, ERBRÉE\, 35500
ORGANIZER;CN="Relais Petite Enfance (RPE)":MAILTO:rpe@chatillon-en-vendelais.fr
END:VEVENT
BEGIN:VEVENT
DTSTART;TZID=Europe/Paris:20250903T160000
DTEND;TZID=Europe/Paris:20250903T163000
DTSTAMP:20260422T011932
CREATED:20250102T183028Z
LAST-MODIFIED:20250102T183028Z
UID:25045-1756915200-1756917000@www.erbree.fr
SUMMARY:Bibliothèque : Raconte-moi une histoire !
DESCRIPTION:
URL:https://www.erbree.fr/agenda/bibliotheque-raconte-moi-une-histoire-6/
LOCATION:Bibliothèque\, Rue de Bretagne\, Erbrée\, 35500
ORGANIZER;CN="Biblioth%C3%A8que":MAILTO:biblio@erbree.fr
END:VEVENT
BEGIN:VEVENT
DTSTART;TZID=Europe/Paris:20250911T140000
DTEND;TZID=Europe/Paris:20250911T140000
DTSTAMP:20260422T011932
CREATED:20250102T183342Z
LAST-MODIFIED:20250102T183342Z
UID:25049-1757599200-1757599200@www.erbree.fr
SUMMARY:Club de la 2ème Jeunesse : Bal
DESCRIPTION:
URL:https://www.erbree.fr/agenda/club-de-la-2eme-jeunesse-bal-15/
LOCATION:Salle des fêtes\, Rue Pierre Simon\, Erbrée\, 35500
ORGANIZER;CN="Club de la 2%C3%A8me Jeunesse":MAILTO:alaincornee@aol.com
END:VEVENT
BEGIN:VEVENT
DTSTART;TZID=Europe/Paris:20250911T200000
DTEND;TZID=Europe/Paris:20250911T200000
DTSTAMP:20260422T011932
CREATED:20250331T145704Z
LAST-MODIFIED:20250909T162630Z
UID:26111-1757620800-1757620800@www.erbree.fr
SUMMARY:Réunion du Conseil Municipal
DESCRIPTION: \nLe Conseil Municipal se réunira à la mairie\n  \nLe JEUDI 11 SEPTEMBRE à 20h\n  \nOrdre du jour :\n* Approbation du compte-rendu de la séance du 25/06 et du 09/07/2025\n* Réalisations dans le cadre des délégations accordées au Maire\n* Bâtiment de la bibliothèque et salle des associations : choix devis chauffage\n* Rapport d’activité 2024 SDE 35\n* Effacement des réseaux télécom : choix concernant la propriété\n* Convention territoriale globale (CTG)\n* Questions diverses
URL:https://www.erbree.fr/agenda/reunion-du-conseil-municipal-6/
LOCATION:Mairie\, 12 rue de Bretagne\, Erbrée\, 35500
ORGANIZER;CN="Mairie":MAILTO:mairie@erbree.fr
END:VEVENT
BEGIN:VEVENT
DTSTART;TZID=Europe/Paris:20250912T200000
DTEND;TZID=Europe/Paris:20250913T000000
DTSTAMP:20260422T011932
CREATED:20250605T165506Z
LAST-MODIFIED:20250605T170148Z
UID:26650-1757707200-1757721600@www.erbree.fr
SUMMARY:Thélème : Gatsby le magnifique – CRÉATION – Spectacle & cocktail dînatoire\, théâtre immersif
DESCRIPTION: Info et réservation : www.theleme-arts.com\n 
URL:https://www.erbree.fr/agenda/theleme-gatsby-le-magnifique-creation-spectacle-cocktail-dinatoire-theatre-immersif/
LOCATION:Château des Bretonnières\, Erbrée\, 35500
ORGANIZER;CN="Th%C3%A9l%C3%A8me - La Culture en pleine Nature":MAILTO:theleme.arts@gmail.com
END:VEVENT
BEGIN:VEVENT
DTSTART;TZID=Europe/Paris:20250913T200000
DTEND;TZID=Europe/Paris:20250914T000000
DTSTAMP:20260422T011932
CREATED:20250605T170759Z
LAST-MODIFIED:20250605T170759Z
UID:26656-1757793600-1757808000@www.erbree.fr
SUMMARY:Thélème : Gatsby le magnifique – CRÉATION – Spectacle & cocktail dînatoire\, théâtre immersif
DESCRIPTION: Info et réservation : www.theleme-arts.com\n 
URL:https://www.erbree.fr/agenda/theleme-gatsby-le-magnifique-creation-spectacle-cocktail-dinatoire-theatre-immersif-2/
LOCATION:Château des Bretonnières\, Erbrée\, 35500
ORGANIZER;CN="Th%C3%A9l%C3%A8me - La Culture en pleine Nature":MAILTO:theleme.arts@gmail.com
END:VEVENT
BEGIN:VEVENT
DTSTART;TZID=Europe/Paris:20250916T094500
DTEND;TZID=Europe/Paris:20250916T110000
DTSTAMP:20260422T011932
CREATED:20250102T183556Z
LAST-MODIFIED:20250102T183556Z
UID:25053-1758015900-1758020400@www.erbree.fr
SUMMARY:Relais Petite Enfance : Atelier d’éveil 0-3 ans
DESCRIPTION:Réservé aux professionnels(les) de la petite enfance\nSur inscription
URL:https://www.erbree.fr/agenda/relais-petite-enfance-atelier-deveil-0-3-ans-19/
LOCATION:Espace Multifonctions René Blandeau\, Ruelle des Lavandières\, ERBRÉE\, 35500
ORGANIZER;CN="Relais Petite Enfance (RPE)":MAILTO:rpe@chatillon-en-vendelais.fr
END:VEVENT
BEGIN:VEVENT
DTSTART;TZID=Europe/Paris:20250917T140000
DTEND;TZID=Europe/Paris:20250917T160000
DTSTAMP:20260422T011932
CREATED:20250911T161213Z
LAST-MODIFIED:20250911T161213Z
UID:27719-1758117600-1758124800@www.erbree.fr
SUMMARY:Bibliothèque : Tournoi Pokémon
DESCRIPTION:Gratuit !\nInscriptions aux horaires d’ouverture\nou par téléphone : 09 62 58 60 21\npar mail : biblio@erbree.fr \n 
URL:https://www.erbree.fr/agenda/bibliotheque-tournoi-pokemon-4/
LOCATION:Bibliothèque\, Rue de Bretagne\, Erbrée\, 35500
ORGANIZER;CN="Biblioth%C3%A8que":MAILTO:biblio@erbree.fr
END:VEVENT
BEGIN:VEVENT
DTSTART;TZID=Europe/Paris:20250920T200000
DTEND;TZID=Europe/Paris:20250921T000000
DTSTAMP:20260422T011932
CREATED:20250605T171123Z
LAST-MODIFIED:20250605T171123Z
UID:26658-1758398400-1758412800@www.erbree.fr
SUMMARY:Thélème : Christian Gonon\, de la COMÉDIE FRANÇAISE\, Seul en scène. La seule certitude que j'ai\, c'est d'être dans le doute
DESCRIPTION: Info et réservation : www.theleme-arts.com\n 
URL:https://www.erbree.fr/agenda/theleme-christian-gonon-de-la-comedie-francaise-seul-en-scene-la-seule-certitude-que-jai-cest-detre-dans-le-doute/
LOCATION:Château des Bretonnières\, Erbrée\, 35500
ORGANIZER;CN="Th%C3%A9l%C3%A8me - La Culture en pleine Nature":MAILTO:theleme.arts@gmail.com
END:VEVENT
BEGIN:VEVENT
DTSTART;TZID=Europe/Paris:20250924T140000
DTEND;TZID=Europe/Paris:20250924T160000
DTSTAMP:20260422T011933
CREATED:20250911T161707Z
LAST-MODIFIED:20250911T161707Z
UID:27724-1758722400-1758729600@www.erbree.fr
SUMMARY:Bibliothèque : Jeux de société
DESCRIPTION:Gratuit !\nInscriptions aux horaires d’ouverture\nou par téléphone : 09 62 58 60 21\npar mail : biblio@erbree.fr \n 
URL:https://www.erbree.fr/agenda/bibliotheque-jeux-de-societe-3/
LOCATION:Bibliothèque\, Rue de Bretagne\, Erbrée\, 35500
ORGANIZER;CN="Biblioth%C3%A8que":MAILTO:biblio@erbree.fr
END:VEVENT
BEGIN:VEVENT
DTSTART;TZID=Europe/Paris:20250930T094500
DTEND;TZID=Europe/Paris:20250930T110000
DTSTAMP:20260422T011933
CREATED:20250102T184226Z
LAST-MODIFIED:20250102T184226Z
UID:25059-1759225500-1759230000@www.erbree.fr
SUMMARY:Relais Petite Enfance : Atelier d’éveil 0-3 ans
DESCRIPTION:Réservé aux professionnels(les) de la petite enfance\nSur inscription
URL:https://www.erbree.fr/agenda/relais-petite-enfance-atelier-deveil-0-3-ans-26/
LOCATION:Espace Multifonctions René Blandeau\, Ruelle des Lavandières\, ERBRÉE\, 35500
ORGANIZER;CN="Relais Petite Enfance (RPE)":MAILTO:rpe@chatillon-en-vendelais.fr
END:VEVENT
END:VCALENDAR