BEGIN:VCALENDAR
VERSION:2.0
PRODID:-//Erbrée - ECPv6.15.20//NONSGML v1.0//EN
CALSCALE:GREGORIAN
METHOD:PUBLISH
X-ORIGINAL-URL:https://www.erbree.fr
X-WR-CALDESC:Évènements pour Erbrée
REFRESH-INTERVAL;VALUE=DURATION:PT1H
X-Robots-Tag:noindex
X-PUBLISHED-TTL:PT1H
BEGIN:VTIMEZONE
TZID:Europe/Paris
BEGIN:DAYLIGHT
TZOFFSETFROM:+0100
TZOFFSETTO:+0200
TZNAME:CEST
DTSTART:20240331T010000
END:DAYLIGHT
BEGIN:STANDARD
TZOFFSETFROM:+0200
TZOFFSETTO:+0100
TZNAME:CET
DTSTART:20241027T010000
END:STANDARD
BEGIN:DAYLIGHT
TZOFFSETFROM:+0100
TZOFFSETTO:+0200
TZNAME:CEST
DTSTART:20250330T010000
END:DAYLIGHT
BEGIN:STANDARD
TZOFFSETFROM:+0200
TZOFFSETTO:+0100
TZNAME:CET
DTSTART:20251026T010000
END:STANDARD
BEGIN:DAYLIGHT
TZOFFSETFROM:+0100
TZOFFSETTO:+0200
TZNAME:CEST
DTSTART:20260329T010000
END:DAYLIGHT
BEGIN:STANDARD
TZOFFSETFROM:+0200
TZOFFSETTO:+0100
TZNAME:CET
DTSTART:20261025T010000
END:STANDARD
END:VTIMEZONE
BEGIN:VEVENT
DTSTART;TZID=Europe/Paris:20250701T094500
DTEND;TZID=Europe/Paris:20250701T094500
DTSTAMP:20260422T044039
CREATED:20250102T182204Z
LAST-MODIFIED:20250102T182204Z
UID:25031-1751363100-1751363100@www.erbree.fr
SUMMARY:Titounette : Atelier 0-3 ans
DESCRIPTION:
URL:https://www.erbree.fr/agenda/titounette-atelier-0-3-ans-11/
LOCATION:Espace Multifonctions René Blandeau\, Ruelle des Lavandières\, ERBRÉE\, 35500
ORGANIZER;CN="Titounette":MAILTO:espace.titounette@gmail.com
END:VEVENT
BEGIN:VEVENT
DTSTART;TZID=Europe/Paris:20250704T190000
DTEND;TZID=Europe/Paris:20250704T210000
DTSTAMP:20260422T044039
CREATED:20250619T180317Z
LAST-MODIFIED:20250619T180317Z
UID:27034-1751655600-1751662800@www.erbree.fr
SUMMARY:Bibliothèque : Soirée télé/pizzas pour Ados
DESCRIPTION:2 € par ado\nInscriptions aux horaires d’ouverture\nou par téléphone : 09 62 58 60 21\npar mail : biblio@erbree.fr \n 
URL:https://www.erbree.fr/agenda/bibliotheque-soiree-tele-pizzas-pour-ados/
LOCATION:Bibliothèque\, Rue de Bretagne\, Erbrée\, 35500
ORGANIZER;CN="Biblioth%C3%A8que":MAILTO:biblio@erbree.fr
END:VEVENT
BEGIN:VEVENT
DTSTART;TZID=Europe/Paris:20250709T200000
DTEND;TZID=Europe/Paris:20250709T200000
DTSTAMP:20260422T044039
CREATED:20250331T145359Z
LAST-MODIFIED:20250707T142649Z
UID:26109-1752091200-1752091200@www.erbree.fr
SUMMARY:Réunion du Conseil Municipal
DESCRIPTION:Le Conseil Municipal se réunira à la mairie \nLe MERCREDI 9 JUILLET à 20h\n  \nOrdre du jour :\n* Approbation du compte-rendu de la séance du 25/06/2025\n* Réalisations dans le cadre des délégations accordées au Maire\n* Mise en place d’une complémentaire santé communale\n* Décision modificative budget Commune\n* Décision modificative budget lotissement le Courtil\n* Création poste d’adjoint technique principal 1ère classe\n* Proposition nouveau logo\n* Questions diverses
URL:https://www.erbree.fr/agenda/reunion-du-conseil-municipal-5/
LOCATION:Mairie\, 12 rue de Bretagne\, Erbrée\, 35500
ORGANIZER;CN="Mairie":MAILTO:mairie@erbree.fr
END:VEVENT
BEGIN:VEVENT
DTSTART;TZID=Europe/Paris:20250710T140000
DTEND;TZID=Europe/Paris:20250710T140000
DTSTAMP:20260422T044039
CREATED:20250102T182428Z
LAST-MODIFIED:20250102T182428Z
UID:25035-1752156000-1752156000@www.erbree.fr
SUMMARY:Club de la 2ème Jeunesse : Bal
DESCRIPTION:
URL:https://www.erbree.fr/agenda/club-de-la-2eme-jeunesse-bal-13/
LOCATION:Salle des fêtes\, Rue Pierre Simon\, Erbrée\, 35500
ORGANIZER;CN="Club de la 2%C3%A8me Jeunesse":MAILTO:alaincornee@aol.com
END:VEVENT
BEGIN:VEVENT
DTSTART;TZID=Europe/Paris:20250713T183000
DTEND;TZID=Europe/Paris:20250713T235900
DTSTAMP:20260422T044039
CREATED:20250102T182548Z
LAST-MODIFIED:20250612T171843Z
UID:25037-1752431400-1752451140@www.erbree.fr
SUMMARY:Erbrée-Bamboche : La Bamboche
DESCRIPTION:
URL:https://www.erbree.fr/agenda/erbree-bamboche-la-bamboche/
LOCATION:Place de l’Église\, Erbrée\, 35500
ORGANIZER;CN="Erbr%C3%A9e-Bamboche":MAILTO:erbree.bamboche@gmail.com
END:VEVENT
BEGIN:VEVENT
DTSTART;TZID=Europe/Paris:20250719T193000
DTEND;TZID=Europe/Paris:20250720T010000
DTSTAMP:20260422T044039
CREATED:20250605T164826Z
LAST-MODIFIED:20250605T170358Z
UID:26648-1752953400-1752973200@www.erbree.fr
SUMMARY:Thélème : Vive les mariés ! Théâtre immersif – Comédie dîner spectacle
DESCRIPTION: Info et réservation : www.theleme-arts.com\n 
URL:https://www.erbree.fr/agenda/theleme-vive-les-maries-theatre-immersif-comedie-diner-spectacle/
LOCATION:Château des Bretonnières\, Erbrée\, 35500
ORGANIZER;CN="Th%C3%A9l%C3%A8me - La Culture en pleine Nature":MAILTO:theleme.arts@gmail.com
END:VEVENT
BEGIN:VEVENT
DTSTART;VALUE=DATE:20250721
DTEND;VALUE=DATE:20250722
DTSTAMP:20260422T044039
CREATED:20250102T182714Z
LAST-MODIFIED:20250327T190043Z
UID:25039-1753056000-1753142399@www.erbree.fr
SUMMARY:Erbrée-Rando : Randonnée Pédestre
DESCRIPTION:Le lieu de départ sera annoncé quelques jours avant la randonnée.\n 
URL:https://www.erbree.fr/agenda/erbree-rando-randonnee-pedestre-6/
ORGANIZER;CN="Erbr%C3%A9e-Rando":MAILTO:guesdon.marie-christine@wanadoo.fr ou joel.marquet27@gmail.com
END:VEVENT
END:VCALENDAR