BEGIN:VCALENDAR
VERSION:2.0
PRODID:-//Erbrée - ECPv6.15.20//NONSGML v1.0//EN
CALSCALE:GREGORIAN
METHOD:PUBLISH
X-ORIGINAL-URL:https://www.erbree.fr
X-WR-CALDESC:Évènements pour Erbrée
REFRESH-INTERVAL;VALUE=DURATION:PT1H
X-Robots-Tag:noindex
X-PUBLISHED-TTL:PT1H
BEGIN:VTIMEZONE
TZID:Europe/Paris
BEGIN:DAYLIGHT
TZOFFSETFROM:+0100
TZOFFSETTO:+0200
TZNAME:CEST
DTSTART:20240331T010000
END:DAYLIGHT
BEGIN:STANDARD
TZOFFSETFROM:+0200
TZOFFSETTO:+0100
TZNAME:CET
DTSTART:20241027T010000
END:STANDARD
BEGIN:DAYLIGHT
TZOFFSETFROM:+0100
TZOFFSETTO:+0200
TZNAME:CEST
DTSTART:20250330T010000
END:DAYLIGHT
BEGIN:STANDARD
TZOFFSETFROM:+0200
TZOFFSETTO:+0100
TZNAME:CET
DTSTART:20251026T010000
END:STANDARD
BEGIN:DAYLIGHT
TZOFFSETFROM:+0100
TZOFFSETTO:+0200
TZNAME:CEST
DTSTART:20260329T010000
END:DAYLIGHT
BEGIN:STANDARD
TZOFFSETFROM:+0200
TZOFFSETTO:+0100
TZNAME:CET
DTSTART:20261025T010000
END:STANDARD
END:VTIMEZONE
BEGIN:VEVENT
DTSTART;VALUE=DATE:20250503
DTEND;VALUE=DATE:20250504
DTSTAMP:20260422T092830
CREATED:20250313T190658Z
LAST-MODIFIED:20250313T190658Z
UID:25792-1746230400-1746316799@www.erbree.fr
SUMMARY:Thélème : Cabaret Théâtre - Les Mademoiselles
DESCRIPTION:
URL:https://www.erbree.fr/agenda/theleme-cabaret-theatre-les-mademoiselles/
LOCATION:Château des Bretonnières\, Erbrée\, 35500
ORGANIZER;CN="Th%C3%A9l%C3%A8me - La Culture en pleine Nature":MAILTO:theleme.arts@gmail.com
END:VEVENT
BEGIN:VEVENT
DTSTART;TZID=Europe/Paris:20250506T094500
DTEND;TZID=Europe/Paris:20250506T110000
DTSTAMP:20260422T092830
CREATED:20241217T170701Z
LAST-MODIFIED:20241217T170701Z
UID:24868-1746524700-1746529200@www.erbree.fr
SUMMARY:Titounette : Atelier 0-3 ans
DESCRIPTION:
URL:https://www.erbree.fr/agenda/titounette-atelier-0-3-ans-6/
LOCATION:Espace Multifonctions René Blandeau\, Ruelle des Lavandières\, ERBRÉE\, 35500
ORGANIZER;CN="Titounette":MAILTO:espace.titounette@gmail.com
END:VEVENT
BEGIN:VEVENT
DTSTART;TZID=Europe/Paris:20250507T160000
DTEND;TZID=Europe/Paris:20250507T163000
DTSTAMP:20260422T092830
CREATED:20241217T171320Z
LAST-MODIFIED:20241217T171320Z
UID:24870-1746633600-1746635400@www.erbree.fr
SUMMARY:Bibliothèque : Raconte-moi une histoire !
DESCRIPTION:
URL:https://www.erbree.fr/agenda/bibliotheque-raconte-moi-une-histoire-3/
LOCATION:Bibliothèque\, Rue de Bretagne\, Erbrée\, 35500
ORGANIZER;CN="Biblioth%C3%A8que":MAILTO:biblio@erbree.fr
END:VEVENT
BEGIN:VEVENT
DTSTART;VALUE=DATE:20250508
DTEND;VALUE=DATE:20250509
DTSTAMP:20260422T092830
CREATED:20250218T163052Z
LAST-MODIFIED:20250218T163052Z
UID:25578-1746662400-1746748799@www.erbree.fr
SUMMARY:Ervored Palets - Concours de Palets #1
DESCRIPTION:
URL:https://www.erbree.fr/agenda/ervored-palets-concours-de-palets-1/
LOCATION:Terrain de foot
ORGANIZER;CN="Ervored Palets":MAILTO:manceau.wilfried@gmail.com
END:VEVENT
BEGIN:VEVENT
DTSTART;TZID=Europe/Paris:20250508T140000
DTEND;TZID=Europe/Paris:20250508T140000
DTSTAMP:20260422T092830
CREATED:20250102T174700Z
LAST-MODIFIED:20250102T174700Z
UID:25000-1746712800-1746712800@www.erbree.fr
SUMMARY:Club de la 2ème Jeunesse : Bal
DESCRIPTION:
URL:https://www.erbree.fr/agenda/club-de-la-2eme-jeunesse-bal-11/
LOCATION:Salle des fêtes\, Rue Pierre Simon\, Erbrée\, 35500
ORGANIZER;CN="Club de la 2%C3%A8me Jeunesse":MAILTO:alaincornee@aol.com
END:VEVENT
BEGIN:VEVENT
DTSTART;TZID=Europe/Paris:20250513T094500
DTEND;TZID=Europe/Paris:20250513T094500
DTSTAMP:20260422T092830
CREATED:20250102T174839Z
LAST-MODIFIED:20250415T165025Z
UID:25002-1747129500-1747129500@www.erbree.fr
SUMMARY:Relais Petite Enfance : Atelier d’éveil 0-3 ans
DESCRIPTION:Réservé aux professionnels(les) de la petite enfance\nSur inscription\n 
URL:https://www.erbree.fr/agenda/relais-petite-enfance-atelier-deveil-0-3-ans-14/
LOCATION:Espace Multifonctions René Blandeau\, Ruelle des Lavandières\, ERBRÉE\, 35500
ORGANIZER;CN="Relais Petite Enfance (RPE)":MAILTO:rpe@chatillon-en-vendelais.fr
END:VEVENT
BEGIN:VEVENT
DTSTART;TZID=Europe/Paris:20250514T200000
DTEND;TZID=Europe/Paris:20250514T200000
DTSTAMP:20260422T092830
CREATED:20241217T170529Z
LAST-MODIFIED:20250509T065715Z
UID:24866-1747252800-1747252800@www.erbree.fr
SUMMARY:Réunion du Conseil Municipal
DESCRIPTION:Le Conseil Municipal se réunira à la mairie \nLe MERCREDI 14 MAI à 20h\n  \nOrdre du jour :\n* Approbation du compte-rendu de la séance du 23/04/2025\n* Réalisations dans le cadre des délégations accordées au Maire\n* Rénovation énergétique bâtiment de la bibliothèque et salle des associations\n* Aménagements urbains : avenant maîtrise d’œuvre\n* Acquisition parcelle de terrain rue de la Valière\n* Taxe d’aménagement : exonération pour les maisons de santé\n* Décision modificative au budget\n* Proposition réalisation emprunt (sous réserve)\n* Compte épargne temps : indemnisation des droits épargnés\n* Questions diverses
URL:https://www.erbree.fr/agenda/reunion-du-conseil-municipal-2/
LOCATION:Mairie\, 12 rue de Bretagne\, Erbrée\, 35500
ORGANIZER;CN="Mairie":MAILTO:mairie@erbree.fr
END:VEVENT
BEGIN:VEVENT
DTSTART;TZID=Europe/Paris:20250515T140000
DTEND;TZID=Europe/Paris:20250515T140000
DTSTAMP:20260422T092830
CREATED:20241217T173142Z
LAST-MODIFIED:20241217T173142Z
UID:24884-1747317600-1747317600@www.erbree.fr
SUMMARY:Club de la 2ème Jeunesse : Gai Savoir
DESCRIPTION:
URL:https://www.erbree.fr/agenda/club-de-la-2eme-jeunesse-gai-savoir-2/
LOCATION:Salle des fêtes\, Rue Pierre Simon\, Erbrée\, 35500
ORGANIZER;CN="Club de la 2%C3%A8me Jeunesse":MAILTO:alaincornee@aol.com
END:VEVENT
BEGIN:VEVENT
DTSTART;VALUE=DATE:20250517
DTEND;VALUE=DATE:20250518
DTSTAMP:20260422T092830
CREATED:20250313T190839Z
LAST-MODIFIED:20250313T190839Z
UID:25794-1747440000-1747526399@www.erbree.fr
SUMMARY:Thélème : Mozart - One man piano show
DESCRIPTION:
URL:https://www.erbree.fr/agenda/theleme-mozart-one-man-piano-show/
LOCATION:Château des Bretonnières\, Erbrée\, 35500
ORGANIZER;CN="Th%C3%A9l%C3%A8me - La Culture en pleine Nature":MAILTO:theleme.arts@gmail.com
END:VEVENT
BEGIN:VEVENT
DTSTART;VALUE=DATE:20250519
DTEND;VALUE=DATE:20250520
DTSTAMP:20260422T092830
CREATED:20241217T172647Z
LAST-MODIFIED:20250513T155735Z
UID:24876-1747612800-1747699199@www.erbree.fr
SUMMARY:Erbrée-Rando : Randonnée pédestre
DESCRIPTION:Départ 14 h – Étang du Pertre.\n 
URL:https://www.erbree.fr/agenda/erbree-rando-randonnee-pedestre-4/
ORGANIZER;CN="Erbr%C3%A9e-Rando":MAILTO:guesdon.marie-christine@wanadoo.fr ou joel.marquet27@gmail.com
END:VEVENT
BEGIN:VEVENT
DTSTART;TZID=Europe/Paris:20250520T094500
DTEND;TZID=Europe/Paris:20250520T110000
DTSTAMP:20260422T092831
CREATED:20241217T172756Z
LAST-MODIFIED:20241217T172756Z
UID:24878-1747734300-1747738800@www.erbree.fr
SUMMARY:Titounette : Atelier 0-3 ans
DESCRIPTION:
URL:https://www.erbree.fr/agenda/titounette-atelier-0-3-ans-7/
LOCATION:Espace Multifonctions René Blandeau\, Ruelle des Lavandières\, ERBRÉE\, 35500
ORGANIZER;CN="Titounette":MAILTO:espace.titounette@gmail.com
END:VEVENT
BEGIN:VEVENT
DTSTART;TZID=Europe/Paris:20250520T140000
DTEND;TZID=Europe/Paris:20250520T140000
DTSTAMP:20260422T092831
CREATED:20241217T172847Z
LAST-MODIFIED:20241217T172847Z
UID:24880-1747749600-1747749600@www.erbree.fr
SUMMARY:Club de la 2ème Jeunesse : Palets
DESCRIPTION:
URL:https://www.erbree.fr/agenda/club-de-la-2eme-jeunesse-palets/
ORGANIZER;CN="Club de la 2%C3%A8me Jeunesse":MAILTO:alaincornee@aol.com
END:VEVENT
BEGIN:VEVENT
DTSTART;TZID=Europe/Paris:20250521T140000
DTEND;TZID=Europe/Paris:20250521T160000
DTSTAMP:20260422T092831
CREATED:20250509T140029Z
LAST-MODIFIED:20250509T140029Z
UID:26479-1747836000-1747843200@www.erbree.fr
SUMMARY:Bibliothèque : Atelier d'écriture
DESCRIPTION:
URL:https://www.erbree.fr/agenda/bibliotheque-atelier-decriture/
LOCATION:Bibliothèque\, Rue de Bretagne\, Erbrée\, 35500
ORGANIZER;CN="Biblioth%C3%A8que":MAILTO:biblio@erbree.fr
END:VEVENT
BEGIN:VEVENT
DTSTART;VALUE=DATE:20250523
DTEND;VALUE=DATE:20250524
DTSTAMP:20260422T092831
CREATED:20250313T190943Z
LAST-MODIFIED:20250313T190943Z
UID:25796-1747958400-1748044799@www.erbree.fr
SUMMARY:Thélème : Duo Della - Concert guitare\, violoncelle
DESCRIPTION:
URL:https://www.erbree.fr/agenda/theleme-duo-della-concert-guitare-violoncelle/
LOCATION:Château des Bretonnières\, Erbrée\, 35500
ORGANIZER;CN="Th%C3%A9l%C3%A8me - La Culture en pleine Nature":MAILTO:theleme.arts@gmail.com
END:VEVENT
BEGIN:VEVENT
DTSTART;TZID=Europe/Paris:20250523T140000
DTEND;TZID=Europe/Paris:20250523T140000
DTSTAMP:20260422T092831
CREATED:20241217T172956Z
LAST-MODIFIED:20241217T172956Z
UID:24882-1748008800-1748008800@www.erbree.fr
SUMMARY:Club de la 2ème Jeunesse : Concours de Belote
DESCRIPTION:
URL:https://www.erbree.fr/agenda/club-de-la-2eme-jeunesse-concours-de-belote-4/
LOCATION:Salle des fêtes\, Rue Pierre Simon\, Erbrée\, 35500
ORGANIZER;CN="Club de la 2%C3%A8me Jeunesse":MAILTO:alaincornee@aol.com
END:VEVENT
BEGIN:VEVENT
DTSTART;TZID=Europe/Paris:20250527T094500
DTEND;TZID=Europe/Paris:20250527T110000
DTSTAMP:20260422T092831
CREATED:20250102T174940Z
LAST-MODIFIED:20250415T165324Z
UID:25004-1748339100-1748343600@www.erbree.fr
SUMMARY:Relais Petite Enfance : Atelier d’éveil 0-3 ans
DESCRIPTION:Réservé aux professionnels(les) de la petite enfance\nSur inscription\n 
URL:https://www.erbree.fr/agenda/relais-petite-enfance-atelier-deveil-0-3-ans-15/
LOCATION:Espace Multifonctions René Blandeau\, Ruelle des Lavandières\, ERBRÉE\, 35500
ORGANIZER;CN="Relais Petite Enfance (RPE)":MAILTO:rpe@chatillon-en-vendelais.fr
END:VEVENT
END:VCALENDAR