BEGIN:VCALENDAR
VERSION:2.0
PRODID:-//Erbrée - ECPv6.15.20//NONSGML v1.0//EN
CALSCALE:GREGORIAN
METHOD:PUBLISH
X-WR-CALNAME:Erbrée
X-ORIGINAL-URL:https://www.erbree.fr
X-WR-CALDESC:Évènements pour Erbrée
REFRESH-INTERVAL;VALUE=DURATION:PT1H
X-Robots-Tag:noindex
X-PUBLISHED-TTL:PT1H
BEGIN:VTIMEZONE
TZID:Europe/Paris
BEGIN:DAYLIGHT
TZOFFSETFROM:+0100
TZOFFSETTO:+0200
TZNAME:CEST
DTSTART:20240331T010000
END:DAYLIGHT
BEGIN:STANDARD
TZOFFSETFROM:+0200
TZOFFSETTO:+0100
TZNAME:CET
DTSTART:20241027T010000
END:STANDARD
BEGIN:DAYLIGHT
TZOFFSETFROM:+0100
TZOFFSETTO:+0200
TZNAME:CEST
DTSTART:20250330T010000
END:DAYLIGHT
BEGIN:STANDARD
TZOFFSETFROM:+0200
TZOFFSETTO:+0100
TZNAME:CET
DTSTART:20251026T010000
END:STANDARD
BEGIN:DAYLIGHT
TZOFFSETFROM:+0100
TZOFFSETTO:+0200
TZNAME:CEST
DTSTART:20260329T010000
END:DAYLIGHT
BEGIN:STANDARD
TZOFFSETFROM:+0200
TZOFFSETTO:+0100
TZNAME:CET
DTSTART:20261025T010000
END:STANDARD
END:VTIMEZONE
BEGIN:VEVENT
DTSTART;TZID=Europe/Paris:20250401T094500
DTEND;TZID=Europe/Paris:20250401T111500
DTSTAMP:20260422T092634
CREATED:20231219T173510Z
LAST-MODIFIED:20250220T191614Z
UID:21013-1743500700-1743506100@www.erbree.fr
SUMMARY:Relais Petite Enfance : Atelier d’éveil 0-3 ans
DESCRIPTION:Réservé aux professionnels(les) de la petite enfance\nSur inscription
URL:https://www.erbree.fr/agenda/relais-petite-enfance-atelier-deveil-0-3-ans-5/
LOCATION:Espace Multifonctions René Blandeau\, Ruelle des Lavandières\, ERBRÉE\, 35500
ORGANIZER;CN="Relais Petite Enfance (RPE)":MAILTO:rpe@chatillon-en-vendelais.fr
END:VEVENT
BEGIN:VEVENT
DTSTART;TZID=Europe/Paris:20250402T160000
DTEND;TZID=Europe/Paris:20250402T163000
DTSTAMP:20260422T092634
CREATED:20241217T164326Z
LAST-MODIFIED:20241217T164326Z
UID:24853-1743609600-1743611400@www.erbree.fr
SUMMARY:Bibliothèque : Raconte-moi une histoire !
DESCRIPTION:
URL:https://www.erbree.fr/agenda/bibliotheque-raconte-moi-une-histoire-2/
LOCATION:Bibliothèque\, Rue de Bretagne\, Erbrée\, 35500
END:VEVENT
BEGIN:VEVENT
DTSTART;TZID=Europe/Paris:20250408T103000
DTEND;TZID=Europe/Paris:20250408T113000
DTSTAMP:20260422T092634
CREATED:20250320T180013Z
LAST-MODIFIED:20250327T171706Z
UID:25875-1744108200-1744111800@www.erbree.fr
SUMMARY:Bibliothèque : Le temps des Histoires
DESCRIPTION:Gratuit !\nInscriptions aux horaires d’ouverture\nou par téléphone : 09 62 58 60 21\npar mail : biblio@erbree.fr
URL:https://www.erbree.fr/agenda/bibliotheque-lecture-animee/
LOCATION:Bibliothèque\, Rue de Bretagne\, Erbrée\, 35500
ORGANIZER;CN="Biblioth%C3%A8que":MAILTO:biblio@erbree.fr
END:VEVENT
BEGIN:VEVENT
DTSTART;TZID=Europe/Paris:20250408T140000
DTEND;TZID=Europe/Paris:20250408T160000
DTSTAMP:20260422T092634
CREATED:20250320T180421Z
LAST-MODIFIED:20250327T171810Z
UID:25877-1744120800-1744128000@www.erbree.fr
SUMMARY:Bibliothèque : Fabrication d'un carnet Nature
DESCRIPTION:Gratuit !\nInscriptions aux horaires d’ouverture\nou par téléphone : 09 62 58 60 21\npar mail : biblio@erbree.fr
URL:https://www.erbree.fr/agenda/bibliotheque-fabrication-dun-carnet-nature/
LOCATION:Bibliothèque\, Rue de Bretagne\, Erbrée\, 35500
ORGANIZER;CN="Biblioth%C3%A8que":MAILTO:biblio@erbree.fr
END:VEVENT
BEGIN:VEVENT
DTSTART;TZID=Europe/Paris:20250408T200000
DTEND;TZID=Europe/Paris:20250408T220000
DTSTAMP:20260422T092634
CREATED:20250320T180520Z
LAST-MODIFIED:20250327T171959Z
UID:25879-1744142400-1744149600@www.erbree.fr
SUMMARY:Bibliothèque : Soirée Jeux
DESCRIPTION:Gratuit !\nInscriptions aux horaires d’ouverture\nou par téléphone : 09 62 58 60 21\npar mail : biblio@erbree.fr
URL:https://www.erbree.fr/agenda/bibliotheque-soiree-jeux-2/
LOCATION:Bibliothèque\, Rue de Bretagne\, Erbrée\, 35500
ORGANIZER;CN="Biblioth%C3%A8que":MAILTO:biblio@erbree.fr
END:VEVENT
BEGIN:VEVENT
DTSTART;TZID=Europe/Paris:20250409T140000
DTEND;TZID=Europe/Paris:20250409T160000
DTSTAMP:20260422T092634
CREATED:20250320T180623Z
LAST-MODIFIED:20250327T171906Z
UID:25881-1744207200-1744214400@www.erbree.fr
SUMMARY:Bibliothèque : Club Manga
DESCRIPTION:Gratuit !\nInscriptions aux horaires d’ouverture\nou par téléphone : 09 62 58 60 21\npar mail : biblio@erbree.fr
URL:https://www.erbree.fr/agenda/bibliotheque-club-manga-4/
LOCATION:Bibliothèque\, Rue de Bretagne\, Erbrée\, 35500
ORGANIZER;CN="Biblioth%C3%A8que":MAILTO:biblio@erbree.fr
END:VEVENT
BEGIN:VEVENT
DTSTART;TZID=Europe/Paris:20250410T140000
DTEND;TZID=Europe/Paris:20250410T140000
DTSTAMP:20260422T092634
CREATED:20241217T164511Z
LAST-MODIFIED:20241217T164511Z
UID:24855-1744293600-1744293600@www.erbree.fr
SUMMARY:UNC : Bal
DESCRIPTION:
URL:https://www.erbree.fr/agenda/unc-bal-2/
LOCATION:Salle des fêtes\, Rue Pierre Simon\, Erbrée\, 35500
ORGANIZER;CN="UNC (Union Nationale des Combattants)":MAILTO:erbreemondevert35500@unc-35.fr
END:VEVENT
BEGIN:VEVENT
DTSTART;VALUE=DATE:20250412
DTEND;VALUE=DATE:20250413
DTSTAMP:20260422T092634
CREATED:20241217T164616Z
LAST-MODIFIED:20250109T172326Z
UID:24857-1744416000-1744502399@www.erbree.fr
SUMMARY:Classes 5
DESCRIPTION:
URL:https://www.erbree.fr/agenda/classes-5/
LOCATION:Salle des fêtes\, Rue Pierre Simon\, Erbrée\, 35500
ORGANIZER;CN="Erbr%C3%A9e-Bamboche":MAILTO:erbree.bamboche@gmail.com
END:VEVENT
BEGIN:VEVENT
DTSTART;TZID=Europe/Paris:20250414T140000
DTEND;TZID=Europe/Paris:20250414T163000
DTSTAMP:20260422T092634
CREATED:20241217T164753Z
LAST-MODIFIED:20250407T081745Z
UID:24859-1744639200-1744648200@www.erbree.fr
SUMMARY:Erbrée-Rando : Randonnée Pédestre
DESCRIPTION:Départ 14 h de la salle des fêtes de Bourgon (53).\nPrévoir votre siège pour le goûter 🙂\n 
URL:https://www.erbree.fr/agenda/erbree-rando-randonnee-pedestre-3/
ORGANIZER;CN="Erbr%C3%A9e-Rando":MAILTO:guesdon.marie-christine@wanadoo.fr ou joel.marquet27@gmail.com
END:VEVENT
BEGIN:VEVENT
DTSTART;TZID=Europe/Paris:20250418T190000
DTEND;TZID=Europe/Paris:20250418T213000
DTSTAMP:20260422T092634
CREATED:20250320T181036Z
LAST-MODIFIED:20250325T173100Z
UID:25883-1745002800-1745011800@www.erbree.fr
SUMMARY:Bibliothèque : Soirée spéciale ados
DESCRIPTION:
URL:https://www.erbree.fr/agenda/bibliotheque-soiree-speciale-ados/
LOCATION:Bibliothèque\, Rue de Bretagne\, Erbrée\, 35500
ORGANIZER;CN="Biblioth%C3%A8que":MAILTO:biblio@erbree.fr
END:VEVENT
BEGIN:VEVENT
DTSTART;TZID=Europe/Paris:20250422T094500
DTEND;TZID=Europe/Paris:20250422T094500
DTSTAMP:20260422T092634
CREATED:20241217T165031Z
LAST-MODIFIED:20241217T170343Z
UID:24861-1745315100-1745315100@www.erbree.fr
SUMMARY:Titounette : Atelier 0-3 ans
DESCRIPTION:
URL:https://www.erbree.fr/agenda/titounette-atelier-0-3-ans-5/
LOCATION:Espace Multifonctions René Blandeau\, Ruelle des Lavandières\, ERBRÉE\, 35500
ORGANIZER;CN="Titounette":MAILTO:espace.titounette@gmail.com
END:VEVENT
BEGIN:VEVENT
DTSTART;TZID=Europe/Paris:20250423T140000
DTEND;TZID=Europe/Paris:20250423T140000
DTSTAMP:20260422T092634
CREATED:20241217T165225Z
LAST-MODIFIED:20241217T165225Z
UID:24863-1745416800-1745416800@www.erbree.fr
SUMMARY:Club de la 2ème Jeunesse : Concours de Belote
DESCRIPTION:
URL:https://www.erbree.fr/agenda/club-de-la-2eme-jeunesse-concours-de-belote-3/
LOCATION:Salle des fêtes\, Rue Pierre Simon\, Erbrée\, 35500
ORGANIZER;CN="Club de la 2%C3%A8me Jeunesse":MAILTO:alaincornee@aol.com
END:VEVENT
BEGIN:VEVENT
DTSTART;TZID=Europe/Paris:20250423T200000
DTEND;TZID=Europe/Paris:20250423T200000
DTSTAMP:20260422T092634
CREATED:20250419T083541Z
LAST-MODIFIED:20250419T085458Z
UID:26381-1745438400-1745438400@www.erbree.fr
SUMMARY:Réunion du Conseil Municipal
DESCRIPTION:Le Conseil Municipal se réunira à la mairie \nLe MERCREDI 23 AVRIL à 20h\n  \nOrdre du jour :\n* Approbation du compte-rendu de la séance du 26/03/2025\n* Réalisations dans le cadre des délégations accordées au Maire\n* Travaux de voirie chemin de La Melletière\n* Cession portion de chemin L’Andronnière\n* Régularisation foncière 3 place de l’église\n* Avenant convention d’adhésion au service commun d’instruction des ADS\n* Tarifs mini-camp ALSH\n* Questions diverses
URL:https://www.erbree.fr/agenda/reunion-du-conseil-municipal-7/
LOCATION:Mairie\, 12 rue de Bretagne\, Erbrée\, 35500
ORGANIZER;CN="Mairie":MAILTO:mairie@erbree.fr
END:VEVENT
BEGIN:VEVENT
DTSTART;VALUE=DATE:20250427
DTEND;VALUE=DATE:20250428
DTSTAMP:20260422T092634
CREATED:20250217T103827Z
LAST-MODIFIED:20250325T170318Z
UID:25563-1745712000-1745798399@www.erbree.fr
SUMMARY:La Vie en Tête : Randonnée Gourmande
DESCRIPTION:
URL:https://www.erbree.fr/agenda/la-vie-en-tete-randonnee-gourmande/
ORGANIZER;CN="La Vie en T%C3%AAte":MAILTO:lavieentete@gmail.com
END:VEVENT
BEGIN:VEVENT
DTSTART;TZID=Europe/Paris:20250429T094500
DTEND;TZID=Europe/Paris:20250429T110000
DTSTAMP:20260422T092634
CREATED:20241212T175903Z
LAST-MODIFIED:20241212T175903Z
UID:24765-1745919900-1745924400@www.erbree.fr
SUMMARY:Relais Petite Enfance : Atelier d’éveil 0-3 ans
DESCRIPTION:Réservé aux professionnels(les) de la petite enfance\nSur inscription\n 
URL:https://www.erbree.fr/agenda/relais-petite-enfance-atelier-deveil-0-3-ans-3/
LOCATION:Espace Multifonctions René Blandeau\, Ruelle des Lavandières\, ERBRÉE\, 35500
ORGANIZER;CN="Relais Petite Enfance (RPE)":MAILTO:rpe@chatillon-en-vendelais.fr
END:VEVENT
END:VCALENDAR