BEGIN:VCALENDAR
VERSION:2.0
PRODID:-//Erbrée - ECPv6.15.20//NONSGML v1.0//EN
CALSCALE:GREGORIAN
METHOD:PUBLISH
X-WR-CALNAME:Erbrée
X-ORIGINAL-URL:https://www.erbree.fr
X-WR-CALDESC:Évènements pour Erbrée
REFRESH-INTERVAL;VALUE=DURATION:PT1H
X-Robots-Tag:noindex
X-PUBLISHED-TTL:PT1H
BEGIN:VTIMEZONE
TZID:Europe/Paris
BEGIN:DAYLIGHT
TZOFFSETFROM:+0100
TZOFFSETTO:+0200
TZNAME:CEST
DTSTART:20240331T010000
END:DAYLIGHT
BEGIN:STANDARD
TZOFFSETFROM:+0200
TZOFFSETTO:+0100
TZNAME:CET
DTSTART:20241027T010000
END:STANDARD
BEGIN:DAYLIGHT
TZOFFSETFROM:+0100
TZOFFSETTO:+0200
TZNAME:CEST
DTSTART:20250330T010000
END:DAYLIGHT
BEGIN:STANDARD
TZOFFSETFROM:+0200
TZOFFSETTO:+0100
TZNAME:CET
DTSTART:20251026T010000
END:STANDARD
BEGIN:DAYLIGHT
TZOFFSETFROM:+0100
TZOFFSETTO:+0200
TZNAME:CEST
DTSTART:20260329T010000
END:DAYLIGHT
BEGIN:STANDARD
TZOFFSETFROM:+0200
TZOFFSETTO:+0100
TZNAME:CET
DTSTART:20261025T010000
END:STANDARD
END:VTIMEZONE
BEGIN:VEVENT
DTSTART;TZID=Europe/Paris:20250201T203000
DTEND;TZID=Europe/Paris:20250201T203000
DTSTAMP:20260422T122957
CREATED:20241021T171634Z
LAST-MODIFIED:20241212T181642Z
UID:23675-1738441800-1738441800@www.erbree.fr
SUMMARY:Théâtre "Les sans Clocher" - Représentation
DESCRIPTION:
URL:https://www.erbree.fr/agenda/theatre-les-sans-clocher-representation-4/
LOCATION:Salle des fêtes\, Rue Pierre Simon\, Erbrée\, 35500
ORGANIZER;CN="Th%C3%A9%C3%A2tre 'Les sans Clocher'":MAILTO:lessansclochererbree@gmail.com
END:VEVENT
BEGIN:VEVENT
DTSTART;TZID=Europe/Paris:20250202T143000
DTEND;TZID=Europe/Paris:20250202T143000
DTSTAMP:20260422T122957
CREATED:20241021T171720Z
LAST-MODIFIED:20241212T181825Z
UID:23677-1738506600-1738506600@www.erbree.fr
SUMMARY:Théâtre "Les sans Clocher" - Représentation
DESCRIPTION:
URL:https://www.erbree.fr/agenda/theatre-les-sans-clocher-representation-5/
LOCATION:Salle des fêtes\, Rue Pierre Simon\, Erbrée\, 35500
ORGANIZER;CN="Th%C3%A9%C3%A2tre 'Les sans Clocher'":MAILTO:lessansclochererbree@gmail.com
END:VEVENT
BEGIN:VEVENT
DTSTART;TZID=Europe/Paris:20250204T094500
DTEND;TZID=Europe/Paris:20250204T110000
DTSTAMP:20260422T122957
CREATED:20231219T173732Z
LAST-MODIFIED:20241212T175005Z
UID:21015-1738662300-1738666800@www.erbree.fr
SUMMARY:Relais Petite Enfance : Atelier d’éveil 0-3 ans
DESCRIPTION:Réservé aux professionnels(les) de la petite enfance\nSur inscription\n 
URL:https://www.erbree.fr/agenda/relais-petite-enfance-atelier-deveil-0-3-ans-6/
LOCATION:Espace Multifonctions René Blandeau\, Ruelle des Lavandières\, ERBRÉE\, 35500
ORGANIZER;CN="Relais Petite Enfance (RPE)":MAILTO:rpe@chatillon-en-vendelais.fr
END:VEVENT
BEGIN:VEVENT
DTSTART;TZID=Europe/Paris:20250205T160000
DTEND;TZID=Europe/Paris:20250205T163000
DTSTAMP:20260422T122957
CREATED:20231214T185038Z
LAST-MODIFIED:20241021T171822Z
UID:20953-1738771200-1738773000@www.erbree.fr
SUMMARY:Bibliothèque : Raconte-moi une histoire !
DESCRIPTION:
URL:https://www.erbree.fr/agenda/bibliotheque-raconte-moi-une-histoire-8/
LOCATION:Bibliothèque\, Rue de Bretagne\, Erbrée\, 35500
END:VEVENT
BEGIN:VEVENT
DTSTART;TZID=Europe/Paris:20250211T103000
DTEND;TZID=Europe/Paris:20250211T113000
DTSTAMP:20260422T122957
CREATED:20250204T095349Z
LAST-MODIFIED:20250204T095349Z
UID:25445-1739269800-1739273400@www.erbree.fr
SUMMARY:Bibliothèque : Le temps des histoires
DESCRIPTION:Gratuit !\nInscriptions aux horaires d’ouverture\nou par téléphone : 09 62 58 60 21\npar mail : biblio@erbree.fr
URL:https://www.erbree.fr/agenda/bibliotheque-le-temps-des-histoires/
LOCATION:Bibliothèque\, Rue de Bretagne\, Erbrée\, 35500
ORGANIZER;CN="Biblioth%C3%A8que":MAILTO:biblio@erbree.fr
END:VEVENT
BEGIN:VEVENT
DTSTART;TZID=Europe/Paris:20250211T140000
DTEND;TZID=Europe/Paris:20250211T160000
DTSTAMP:20260422T122957
CREATED:20250204T095601Z
LAST-MODIFIED:20250204T095601Z
UID:25448-1739282400-1739289600@www.erbree.fr
SUMMARY:Bibliothèque : L'Atelier BD / Manga
DESCRIPTION:Gratuit !\nInscriptions aux horaires d’ouverture\nou par téléphone : 09 62 58 60 21\npar mail : biblio@erbree.fr
URL:https://www.erbree.fr/agenda/bibliotheque-latelier-bd-manga/
LOCATION:Bibliothèque\, Rue de Bretagne\, Erbrée\, 35500
ORGANIZER;CN="Biblioth%C3%A8que":MAILTO:biblio@erbree.fr
END:VEVENT
BEGIN:VEVENT
DTSTART;VALUE=DATE:20250212
DTEND;VALUE=DATE:20250213
DTSTAMP:20260422T122957
CREATED:20241021T173604Z
LAST-MODIFIED:20241021T173604Z
UID:23684-1739318400-1739404799@www.erbree.fr
SUMMARY:UNC : Assemblée Générale
DESCRIPTION:
URL:https://www.erbree.fr/agenda/unc-assemblee-generale/
ORGANIZER;CN="UNC (Union Nationale des Combattants)":MAILTO:erbreemondevert35500@unc-35.fr
END:VEVENT
BEGIN:VEVENT
DTSTART;TZID=Europe/Paris:20250212T140000
DTEND;TZID=Europe/Paris:20250212T160000
DTSTAMP:20260422T122957
CREATED:20250204T095731Z
LAST-MODIFIED:20250204T095731Z
UID:25451-1739368800-1739376000@www.erbree.fr
SUMMARY:Bibliothèque : Tournoi Jeu Vidéo
DESCRIPTION:Gratuit !\nInscriptions aux horaires d’ouverture\nou par téléphone : 09 62 58 60 21\npar mail : biblio@erbree.fr
URL:https://www.erbree.fr/agenda/bibliotheque-tournoi-jeu-video/
LOCATION:Bibliothèque\, Rue de Bretagne\, Erbrée\, 35500
ORGANIZER;CN="Biblioth%C3%A8que":MAILTO:biblio@erbree.fr
END:VEVENT
BEGIN:VEVENT
DTSTART;TZID=Europe/Paris:20250213T140000
DTEND;TZID=Europe/Paris:20250213T140000
DTSTAMP:20260422T122957
CREATED:20240111T182647Z
LAST-MODIFIED:20241021T173744Z
UID:21106-1739455200-1739455200@www.erbree.fr
SUMMARY:Club de la 2ème Jeunesse : Bal
DESCRIPTION:
URL:https://www.erbree.fr/agenda/club-de-la-2eme-jeunesse-bal-2/
LOCATION:Salle des fêtes\, Rue Pierre Simon\, Erbrée\, 35500
ORGANIZER;CN="Club de la 2%C3%A8me Jeunesse":MAILTO:alaincornee@aol.com
END:VEVENT
BEGIN:VEVENT
DTSTART;TZID=Europe/Paris:20250217T140000
DTEND;TZID=Europe/Paris:20250217T140000
DTSTAMP:20260422T122957
CREATED:20240118T181043Z
LAST-MODIFIED:20250121T165157Z
UID:21217-1739800800-1739800800@www.erbree.fr
SUMMARY:Erbrée-Rando : Randonnée Pédestre
DESCRIPTION:Départ de la salle des fêtes de Bréal-sous-Vitré.\n  \n\nLes 2 € sont pour le goûter.
URL:https://www.erbree.fr/agenda/erbree-rando-randonnee-pedestre-11/
ORGANIZER;CN="Erbr%C3%A9e-Rando":MAILTO:guesdon.marie-christine@wanadoo.fr ou joel.marquet27@gmail.com
END:VEVENT
BEGIN:VEVENT
DTSTART;TZID=Europe/Paris:20250218T200000
DTEND;TZID=Europe/Paris:20250218T220000
DTSTAMP:20260422T122957
CREATED:20250204T100033Z
LAST-MODIFIED:20250206T172225Z
UID:25454-1739908800-1739916000@www.erbree.fr
SUMMARY:Bibliothèque : Soirée Jeux
DESCRIPTION:Gratuit !\nInscriptions aux horaires d’ouverture\nou par téléphone : 09 62 58 60 21\npar mail : biblio@erbree.fr \n 
URL:https://www.erbree.fr/agenda/bibliotheque-soiree-jeux/
LOCATION:Bibliothèque\, Rue de Bretagne\, Erbrée\, 35500
ORGANIZER;CN="Biblioth%C3%A8que":MAILTO:biblio@erbree.fr
END:VEVENT
BEGIN:VEVENT
DTSTART;TZID=Europe/Paris:20250219T140000
DTEND;TZID=Europe/Paris:20250219T160000
DTSTAMP:20260422T122957
CREATED:20250204T100154Z
LAST-MODIFIED:20250204T100429Z
UID:25458-1739973600-1739980800@www.erbree.fr
SUMMARY:Bibliothèque : Club Manga
DESCRIPTION:Gratuit !\nInscriptions aux horaires d’ouverture\nou par téléphone : 09 62 58 60 21\npar mail : biblio@erbree.fr
URL:https://www.erbree.fr/agenda/bibliotheque-club-manga/
LOCATION:Bibliothèque\, Rue de Bretagne\, Erbrée\, 35500
ORGANIZER;CN="Biblioth%C3%A8que":MAILTO:biblio@erbree.fr
END:VEVENT
BEGIN:VEVENT
DTSTART;TZID=Europe/Paris:20250221T190000
DTEND;TZID=Europe/Paris:20250221T210000
DTSTAMP:20260422T122957
CREATED:20250211T181025Z
LAST-MODIFIED:20250211T181055Z
UID:25533-1740164400-1740171600@www.erbree.fr
SUMMARY:Bibliothèque : Soirée Télé Pizzas
DESCRIPTION:
URL:https://www.erbree.fr/agenda/bibliotheque-soiree-tele-pizzas/
LOCATION:Bibliothèque\, Rue de Bretagne\, Erbrée\, 35500
ORGANIZER;CN="Biblioth%C3%A8que":MAILTO:biblio@erbree.fr
END:VEVENT
BEGIN:VEVENT
DTSTART;TZID=Europe/Paris:20250225T094500
DTEND;TZID=Europe/Paris:20250225T110000
DTSTAMP:20260422T122957
CREATED:20241212T185050Z
LAST-MODIFIED:20241212T185050Z
UID:24795-1740476700-1740481200@www.erbree.fr
SUMMARY:Titounette : Atelier 0-3 ans
DESCRIPTION:
URL:https://www.erbree.fr/agenda/titounette-atelier-0-3-ans-2/
LOCATION:Espace Multifonctions René Blandeau\, Ruelle des Lavandières\, ERBRÉE\, 35500
END:VEVENT
BEGIN:VEVENT
DTSTART;TZID=Europe/Paris:20250226T200000
DTEND;TZID=Europe/Paris:20250226T200000
DTSTAMP:20260422T122957
CREATED:20250222T073651Z
LAST-MODIFIED:20250222T074434Z
UID:25621-1740600000-1740600000@www.erbree.fr
SUMMARY:Réunion du Conseil Municipal
DESCRIPTION:Le Conseil Municipal se réunira à la mairie \nLe MERCREDI 26 FÉVRIER à 20h\n  \nOrdre du jour :\n* Approbation du compte-rendu de la séance du 23/01/2025\n* Réalisations dans le cadre des délégations accordées au Maire\n* Projet de transfert compétence Planification urbanisme (PLUi)\n* Régularisations foncières voie communale de la Déhorie / RD 110\n* Projet achat tondeuse autoportée\n* Vote des subventions aux associations\n* Débat d’orientation budgétaire 2025\n* Questions diverses
URL:https://www.erbree.fr/agenda/reunion-du-conseil-municipal-4/
LOCATION:Mairie\, 12 rue de Bretagne\, Erbrée\, 35500
ORGANIZER;CN="Mairie":MAILTO:mairie@erbree.fr
END:VEVENT
END:VCALENDAR