BEGIN:VCALENDAR
VERSION:2.0
PRODID:-//Erbrée - ECPv6.15.20//NONSGML v1.0//EN
CALSCALE:GREGORIAN
METHOD:PUBLISH
X-WR-CALNAME:Erbrée
X-ORIGINAL-URL:https://www.erbree.fr
X-WR-CALDESC:Évènements pour Erbrée
REFRESH-INTERVAL;VALUE=DURATION:PT1H
X-Robots-Tag:noindex
X-PUBLISHED-TTL:PT1H
BEGIN:VTIMEZONE
TZID:Europe/Paris
BEGIN:DAYLIGHT
TZOFFSETFROM:+0100
TZOFFSETTO:+0200
TZNAME:CEST
DTSTART:20240331T010000
END:DAYLIGHT
BEGIN:STANDARD
TZOFFSETFROM:+0200
TZOFFSETTO:+0100
TZNAME:CET
DTSTART:20241027T010000
END:STANDARD
BEGIN:DAYLIGHT
TZOFFSETFROM:+0100
TZOFFSETTO:+0200
TZNAME:CEST
DTSTART:20250330T010000
END:DAYLIGHT
BEGIN:STANDARD
TZOFFSETFROM:+0200
TZOFFSETTO:+0100
TZNAME:CET
DTSTART:20251026T010000
END:STANDARD
BEGIN:DAYLIGHT
TZOFFSETFROM:+0100
TZOFFSETTO:+0200
TZNAME:CEST
DTSTART:20260329T010000
END:DAYLIGHT
BEGIN:STANDARD
TZOFFSETFROM:+0200
TZOFFSETTO:+0100
TZNAME:CET
DTSTART:20261025T010000
END:STANDARD
END:VTIMEZONE
BEGIN:VEVENT
DTSTART;TZID=Europe/Paris:20250107T094500
DTEND;TZID=Europe/Paris:20250107T110000
DTSTAMP:20260422T141541
CREATED:20231219T173306Z
LAST-MODIFIED:20241212T174856Z
UID:21005-1736243100-1736247600@www.erbree.fr
SUMMARY:Relais Petite Enfance : Atelier d’éveil 0-3 ans
DESCRIPTION:Réservé aux professionnels(les) de la petite enfance\nSur inscription\n  \n\n 
URL:https://www.erbree.fr/agenda/relais-petite-enfance-atelier-deveil-0-3-ans-4/
LOCATION:Espace Multifonctions René Blandeau\, Ruelle des Lavandières\, ERBRÉE\, 35500
ORGANIZER;CN="Relais Petite Enfance (RPE)":MAILTO:rpe@chatillon-en-vendelais.fr
END:VEVENT
BEGIN:VEVENT
DTSTART;TZID=Europe/Paris:20250109T140000
DTEND;TZID=Europe/Paris:20250109T140000
DTSTAMP:20260422T141541
CREATED:20231219T180305Z
LAST-MODIFIED:20241017T174516Z
UID:21043-1736431200-1736431200@www.erbree.fr
SUMMARY:Club de la 2ème Jeunesse : Bal
DESCRIPTION:
URL:https://www.erbree.fr/agenda/club-de-la-2eme-jeunesse-bal/
LOCATION:Salle des fêtes\, Rue Pierre Simon\, Erbrée\, 35500
ORGANIZER;CN="Club de la 2%C3%A8me Jeunesse":MAILTO:alaincornee@aol.com
END:VEVENT
BEGIN:VEVENT
DTSTART;TZID=Europe/Paris:20250110T193000
DTEND;TZID=Europe/Paris:20250110T193000
DTSTAMP:20260422T141541
CREATED:20221220T132955Z
LAST-MODIFIED:20241221T074855Z
UID:18208-1736537400-1736537400@www.erbree.fr
SUMMARY:Vœux de la Municipalité
DESCRIPTION: 
URL:https://www.erbree.fr/agenda/voeux-de-la-municipalite/
LOCATION:Salle des fêtes\, Rue Pierre Simon\, Erbrée\, 35500
ORGANIZER;CN="Mairie":MAILTO:mairie@erbree.fr
END:VEVENT
BEGIN:VEVENT
DTSTART;TZID=Europe/Paris:20250114T094500
DTEND;TZID=Europe/Paris:20250114T110000
DTSTAMP:20260422T141541
CREATED:20250102T174016Z
LAST-MODIFIED:20250102T174016Z
UID:24998-1736847900-1736852400@www.erbree.fr
SUMMARY:Titounette : Atelier 0-3 ans
DESCRIPTION:
URL:https://www.erbree.fr/agenda/titounette-atelier-0-3-ans-9/
LOCATION:Espace Multifonctions René Blandeau\, Ruelle des Lavandières\, ERBRÉE\, 35500
ORGANIZER;CN="Titounette":MAILTO:espace.titounette@gmail.com
END:VEVENT
BEGIN:VEVENT
DTSTART;TZID=Europe/Paris:20250115T140000
DTEND;TZID=Europe/Paris:20250115T160000
DTSTAMP:20260422T141541
CREATED:20250109T173214Z
LAST-MODIFIED:20250109T173214Z
UID:25141-1736949600-1736956800@www.erbree.fr
SUMMARY:Bibliothèque : Jeux de société
DESCRIPTION:Gratuit !\nInscriptions aux horaires d’ouverture\nou par téléphone : 09 62 58 60 21\npar mail : biblio@erbree.fr \n 
URL:https://www.erbree.fr/agenda/bibliotheque-jeux-de-societe/
LOCATION:Bibliothèque\, Rue de Bretagne\, Erbrée\, 35500
ORGANIZER;CN="Biblioth%C3%A8que":MAILTO:biblio@erbree.fr
END:VEVENT
BEGIN:VEVENT
DTSTART;TZID=Europe/Paris:20250118T203000
DTEND;TZID=Europe/Paris:20250118T203000
DTSTAMP:20260422T141541
CREATED:20241017T175932Z
LAST-MODIFIED:20241212T181308Z
UID:23642-1737232200-1737232200@www.erbree.fr
SUMMARY:Théâtre "Les sans Clocher" - Représentation
DESCRIPTION:
URL:https://www.erbree.fr/agenda/theatre-les-sans-clocher-representations/
LOCATION:Salle des fêtes\, Rue Pierre Simon\, Erbrée\, 35500
ORGANIZER;CN="Th%C3%A9%C3%A2tre 'Les sans Clocher'":MAILTO:lessansclochererbree@gmail.com
END:VEVENT
BEGIN:VEVENT
DTSTART;TZID=Europe/Paris:20250119T143000
DTEND;TZID=Europe/Paris:20250119T143000
DTSTAMP:20260422T141541
CREATED:20241017T180215Z
LAST-MODIFIED:20241212T181352Z
UID:23644-1737297000-1737297000@www.erbree.fr
SUMMARY:Théâtre "Les sans Clocher" - Représentation
DESCRIPTION:
URL:https://www.erbree.fr/agenda/theatre-les-sans-clocher-representations-2/
LOCATION:Salle des fêtes\, Rue Pierre Simon\, Erbrée\, 35500
ORGANIZER;CN="Th%C3%A9%C3%A2tre 'Les sans Clocher'":MAILTO:lessansclochererbree@gmail.com
END:VEVENT
BEGIN:VEVENT
DTSTART;TZID=Europe/Paris:20250120T140000
DTEND;TZID=Europe/Paris:20250120T163000
DTSTAMP:20260422T141541
CREATED:20231219T182004Z
LAST-MODIFIED:20250114T173608Z
UID:21045-1737381600-1737390600@www.erbree.fr
SUMMARY:Erbrée-Rando : Randonnée pédestre
DESCRIPTION:Départ salle des Fêtes Erbrée\nInformation complémentaire : Vœux et galette des rois \n 
URL:https://www.erbree.fr/agenda/erbree-rando-randonnee-pedestre-10/
ORGANIZER;CN="Erbr%C3%A9e-Rando":MAILTO:guesdon.marie-christine@wanadoo.fr ou joel.marquet27@gmail.com
END:VEVENT
BEGIN:VEVENT
DTSTART;TZID=Europe/Paris:20250121T094500
DTEND;TZID=Europe/Paris:20250121T110000
DTSTAMP:20260422T141541
CREATED:20231219T174310Z
LAST-MODIFIED:20241212T174927Z
UID:21021-1737452700-1737457200@www.erbree.fr
SUMMARY:Relais Petite Enfance : Atelier d’éveil 0-3 ans
DESCRIPTION:Réservé aux professionnels(les) de la petite enfance\nSur inscription\n  \n\n 
URL:https://www.erbree.fr/agenda/relais-petite-enfance-atelier-deveil-0-3-ans-9/
LOCATION:Espace Multifonctions René Blandeau\, Ruelle des Lavandières\, ERBRÉE\, 35500
ORGANIZER;CN="Relais Petite Enfance (RPE)":MAILTO:rpe@chatillon-en-vendelais.fr
END:VEVENT
BEGIN:VEVENT
DTSTART;TZID=Europe/Paris:20250122T140000
DTEND;TZID=Europe/Paris:20250122T160000
DTSTAMP:20260422T141541
CREATED:20250109T173407Z
LAST-MODIFIED:20250109T173407Z
UID:25143-1737554400-1737561600@www.erbree.fr
SUMMARY:Bibliothèque : Tournoi Pokémon
DESCRIPTION:Gratuit !\nInscriptions aux horaires d’ouverture\nou par téléphone : 09 62 58 60 21\npar mail : biblio@erbree.fr \n 
URL:https://www.erbree.fr/agenda/bibliotheque-tournoi-pokemon/
LOCATION:Bibliothèque\, Rue de Bretagne\, Erbrée\, 35500
ORGANIZER;CN="Biblioth%C3%A8que":MAILTO:biblio@erbree.fr
END:VEVENT
BEGIN:VEVENT
DTSTART;TZID=Europe/Paris:20250123T200000
DTEND;TZID=Europe/Paris:20250123T200000
DTSTAMP:20260422T141541
CREATED:20231214T190204Z
LAST-MODIFIED:20250117T145936Z
UID:20971-1737662400-1737662400@www.erbree.fr
SUMMARY:Réunion du Conseil Municipal
DESCRIPTION:Le Conseil Municipal se réunira à la mairie \nLe JEUDI 23 JANVIER à 20h\n  \nOrdre du jour :\n* Approbation du compte-rendu de la séance du 18/12/24\n* Réalisations dans le cadre des délégations accordées au Maire\n* Modification du Plan Local d’Urbanisme\n* Projet aménagements de sécurité du bourg – Demande DETR et subvention amendes de police\n* Projet rénovation thermique et énergétique du bâtiment de la bibliothèque\n* Questions diverses
URL:https://www.erbree.fr/agenda/reunion-du-conseil-municipal-8/
LOCATION:Mairie\, 12 rue de Bretagne\, Erbrée\, 35500
END:VEVENT
BEGIN:VEVENT
DTSTART;TZID=Europe/Paris:20250124T180000
DTEND;TZID=Europe/Paris:20250124T210000
DTSTAMP:20260422T141541
CREATED:20250109T173747Z
LAST-MODIFIED:20250121T163134Z
UID:25147-1737741600-1737752400@www.erbree.fr
SUMMARY:Bibliothèque : La nuit de la lecture
DESCRIPTION:Gratuit !\nInscriptions aux horaires d’ouverture\nou par téléphone : 09 62 58 60 21\npar mail : biblio@erbree.fr \n 
URL:https://www.erbree.fr/agenda/bibliotheque-la-nuit-de-la-lecture/
LOCATION:Bibliothèque\, Rue de Bretagne\, Erbrée\, 35500
ORGANIZER;CN="Biblioth%C3%A8que":MAILTO:biblio@erbree.fr
END:VEVENT
BEGIN:VEVENT
DTSTART;TZID=Europe/Paris:20250124T203000
DTEND;TZID=Europe/Paris:20250124T203000
DTSTAMP:20260422T141541
CREATED:20241017T180923Z
LAST-MODIFIED:20241212T181430Z
UID:23648-1737750600-1737750600@www.erbree.fr
SUMMARY:Théâtre "Les sans Clocher" - Représentation
DESCRIPTION:
URL:https://www.erbree.fr/agenda/theatre-les-sans-clocher-representation/
LOCATION:Salle des fêtes\, Rue Pierre Simon\, Erbrée\, 35500
ORGANIZER;CN="Th%C3%A9%C3%A2tre 'Les sans Clocher'":MAILTO:lessansclochererbree@gmail.com
END:VEVENT
BEGIN:VEVENT
DTSTART;TZID=Europe/Paris:20250125T203000
DTEND;TZID=Europe/Paris:20250125T203000
DTSTAMP:20260422T141541
CREATED:20241017T181021Z
LAST-MODIFIED:20241212T181514Z
UID:23650-1737837000-1737837000@www.erbree.fr
SUMMARY:Théâtre "Les sans Clocher" - Représentation
DESCRIPTION:
URL:https://www.erbree.fr/agenda/theatre-les-sans-clocher-representation-2/
LOCATION:Salle des fêtes\, Rue Pierre Simon\, Erbrée\, 35500
ORGANIZER;CN="Th%C3%A9%C3%A2tre 'Les sans Clocher'":MAILTO:lessansclochererbree@gmail.com
END:VEVENT
BEGIN:VEVENT
DTSTART;TZID=Europe/Paris:20250126T143000
DTEND;TZID=Europe/Paris:20250126T143000
DTSTAMP:20260422T141541
CREATED:20241017T181141Z
LAST-MODIFIED:20241212T181549Z
UID:23652-1737901800-1737901800@www.erbree.fr
SUMMARY:Théâtre "Les sans Clocher" - Représentation
DESCRIPTION:
URL:https://www.erbree.fr/agenda/theatre-les-sans-clocher-representation-3/
LOCATION:Salle des fêtes\, Rue Pierre Simon\, Erbrée\, 35500
ORGANIZER;CN="Th%C3%A9%C3%A2tre 'Les sans Clocher'":MAILTO:lessansclochererbree@gmail.com
END:VEVENT
BEGIN:VEVENT
DTSTART;TZID=Europe/Paris:20250128T094500
DTEND;TZID=Europe/Paris:20250128T110000
DTSTAMP:20260422T141541
CREATED:20241017T181409Z
LAST-MODIFIED:20241017T181409Z
UID:23654-1738057500-1738062000@www.erbree.fr
SUMMARY:Titounette : Atelier 0-3 ans
DESCRIPTION:
URL:https://www.erbree.fr/agenda/titounette-atelier-0-3-ans/
LOCATION:Espace Multifonctions René Blandeau\, Ruelle des Lavandières\, ERBRÉE\, 35500
END:VEVENT
BEGIN:VEVENT
DTSTART;TZID=Europe/Paris:20250129T140000
DTEND;TZID=Europe/Paris:20250129T160000
DTSTAMP:20260422T141541
CREATED:20250109T173537Z
LAST-MODIFIED:20250109T173537Z
UID:25145-1738159200-1738166400@www.erbree.fr
SUMMARY:Bibliothèque : Le coin des Bricolos
DESCRIPTION:Gratuit !\nInscriptions aux horaires d’ouverture\nou par téléphone : 09 62 58 60 21\npar mail : biblio@erbree.fr \n 
URL:https://www.erbree.fr/agenda/bibliotheque-le-coin-des-bricolos-4/
LOCATION:Bibliothèque\, Rue de Bretagne\, Erbrée\, 35500
ORGANIZER;CN="Biblioth%C3%A8que":MAILTO:biblio@erbree.fr
END:VEVENT
BEGIN:VEVENT
DTSTART;TZID=Europe/Paris:20250131T203000
DTEND;TZID=Europe/Paris:20250131T203000
DTSTAMP:20260422T141541
CREATED:20241212T180557Z
LAST-MODIFIED:20241212T181114Z
UID:24773-1738355400-1738355400@www.erbree.fr
SUMMARY:Théâtre "Les sans Clocher" - Représentation
DESCRIPTION:
URL:https://www.erbree.fr/agenda/theatre-les-sans-clocher-representation-6/
LOCATION:Salle des fêtes\, Rue Pierre Simon\, Erbrée\, 35500
ORGANIZER;CN="Th%C3%A9%C3%A2tre 'Les sans Clocher'":MAILTO:lessansclochererbree@gmail.com
END:VEVENT
END:VCALENDAR