BEGIN:VCALENDAR
VERSION:2.0
PRODID:-//Erbrée - ECPv6.15.20//NONSGML v1.0//EN
CALSCALE:GREGORIAN
METHOD:PUBLISH
X-WR-CALNAME:Erbrée
X-ORIGINAL-URL:https://www.erbree.fr
X-WR-CALDESC:Évènements pour Erbrée
REFRESH-INTERVAL;VALUE=DURATION:PT1H
X-Robots-Tag:noindex
X-PUBLISHED-TTL:PT1H
BEGIN:VTIMEZONE
TZID:Europe/Paris
BEGIN:DAYLIGHT
TZOFFSETFROM:+0100
TZOFFSETTO:+0200
TZNAME:CEST
DTSTART:20250330T010000
END:DAYLIGHT
BEGIN:STANDARD
TZOFFSETFROM:+0200
TZOFFSETTO:+0100
TZNAME:CET
DTSTART:20251026T010000
END:STANDARD
BEGIN:DAYLIGHT
TZOFFSETFROM:+0100
TZOFFSETTO:+0200
TZNAME:CEST
DTSTART:20260329T010000
END:DAYLIGHT
BEGIN:STANDARD
TZOFFSETFROM:+0200
TZOFFSETTO:+0100
TZNAME:CET
DTSTART:20261025T010000
END:STANDARD
BEGIN:DAYLIGHT
TZOFFSETFROM:+0100
TZOFFSETTO:+0200
TZNAME:CEST
DTSTART:20270328T010000
END:DAYLIGHT
BEGIN:STANDARD
TZOFFSETFROM:+0200
TZOFFSETTO:+0100
TZNAME:CET
DTSTART:20271031T010000
END:STANDARD
END:VTIMEZONE
BEGIN:VEVENT
DTSTART;VALUE=DATE:20260714
DTEND;VALUE=DATE:20260715
DTSTAMP:20260421T231142
CREATED:20251218T181649Z
LAST-MODIFIED:20251218T181649Z
UID:29063-1783987200-1784073599@www.erbree.fr
SUMMARY:L'Hermine EBM : Concours de palets à Mondevert
DESCRIPTION:
URL:https://www.erbree.fr/agenda/lhermine-ebm-concours-de-palets-a-mondevert/
ORGANIZER;CN="L'Hermine EBM":MAILTO:thierry.tireau@orange.fr
END:VEVENT
BEGIN:VEVENT
DTSTART;VALUE=DATE:20260720
DTEND;VALUE=DATE:20260721
DTSTAMP:20260421T231142
CREATED:20251218T181432Z
LAST-MODIFIED:20251218T181432Z
UID:29061-1784505600-1784591999@www.erbree.fr
SUMMARY:Erbrée-Rando : Randonnée Pédestre
DESCRIPTION:Le lieu de départ sera annoncé quelques jours avant la randonnée.\n 
URL:https://www.erbree.fr/agenda/erbree-rando-randonnee-pedestre-21/
ORGANIZER;CN="Erbr%C3%A9e-Rando":MAILTO:guesdon.marie-christine@wanadoo.fr ou joel.marquet27@gmail.com
END:VEVENT
BEGIN:VEVENT
DTSTART;TZID=Europe/Paris:20260805T160000
DTEND;TZID=Europe/Paris:20260805T163000
DTSTAMP:20260421T231142
CREATED:20251218T180338Z
LAST-MODIFIED:20251218T180523Z
UID:29051-1785945600-1785947400@www.erbree.fr
SUMMARY:Bibliothèque : Raconte-moi une histoire !
DESCRIPTION:
URL:https://www.erbree.fr/agenda/bibliotheque-raconte-moi-une-histoire-16/
LOCATION:Bibliothèque\, Rue de Bretagne\, Erbrée\, 35500
ORGANIZER;CN="Biblioth%C3%A8que":MAILTO:biblio@erbree.fr
END:VEVENT
BEGIN:VEVENT
DTSTART;TZID=Europe/Paris:20260813T140000
DTEND;TZID=Europe/Paris:20260813T140000
DTSTAMP:20260421T231142
CREATED:20251028T181317Z
LAST-MODIFIED:20251028T181317Z
UID:28337-1786629600-1786629600@www.erbree.fr
SUMMARY:Club de la 2ème Jeunesse : Bal
DESCRIPTION:
URL:https://www.erbree.fr/agenda/club-de-la-2eme-jeunesse-bal-9/
LOCATION:Salle des fêtes\, Rue Pierre Simon\, Erbrée\, 35500
ORGANIZER;CN="Club de la 2%C3%A8me Jeunesse":MAILTO:alaincornee@aol.com
END:VEVENT
BEGIN:VEVENT
DTSTART;TZID=Europe/Paris:20260902T160000
DTEND;TZID=Europe/Paris:20260902T163000
DTSTAMP:20260421T231142
CREATED:20251218T181829Z
LAST-MODIFIED:20251218T181829Z
UID:29065-1788364800-1788366600@www.erbree.fr
SUMMARY:Bibliothèque : Raconte-moi une histoire !
DESCRIPTION:
URL:https://www.erbree.fr/agenda/bibliotheque-raconte-moi-une-histoire-17/
LOCATION:Bibliothèque\, Rue de Bretagne\, Erbrée\, 35500
ORGANIZER;CN="Biblioth%C3%A8que":MAILTO:biblio@erbree.fr
END:VEVENT
BEGIN:VEVENT
DTSTART;TZID=Europe/Paris:20260908T094500
DTEND;TZID=Europe/Paris:20260908T110000
DTSTAMP:20260421T231142
CREATED:20251028T174346Z
LAST-MODIFIED:20251028T174346Z
UID:28303-1788860700-1788865200@www.erbree.fr
SUMMARY:Relais Petite Enfance : Atelier d’éveil 0-3 ans
DESCRIPTION:Réservé aux professionnels(les) de la petite enfance\nSur inscription
URL:https://www.erbree.fr/agenda/relais-petite-enfance-atelier-deveil-0-3-ans-23/
LOCATION:Espace Multifonctions René Blandeau\, Ruelle des Lavandières\, ERBRÉE\, 35500
ORGANIZER;CN="Relais Petite Enfance (RPE)":MAILTO:rpe@chatillon-en-vendelais.fr
END:VEVENT
BEGIN:VEVENT
DTSTART;TZID=Europe/Paris:20260910T140000
DTEND;TZID=Europe/Paris:20260910T140000
DTSTAMP:20260421T231142
CREATED:20251028T181416Z
LAST-MODIFIED:20251028T181416Z
UID:28339-1789048800-1789048800@www.erbree.fr
SUMMARY:Club de la 2ème Jeunesse : Bal
DESCRIPTION:
URL:https://www.erbree.fr/agenda/club-de-la-2eme-jeunesse-bal-10/
LOCATION:Salle des fêtes\, Rue Pierre Simon\, Erbrée\, 35500
ORGANIZER;CN="Club de la 2%C3%A8me Jeunesse":MAILTO:alaincornee@aol.com
END:VEVENT
BEGIN:VEVENT
DTSTART;VALUE=DATE:20260921
DTEND;VALUE=DATE:20260922
DTSTAMP:20260421T231142
CREATED:20251218T182000Z
LAST-MODIFIED:20251218T182000Z
UID:29067-1789948800-1790035199@www.erbree.fr
SUMMARY:Erbrée-Rando : Randonnée Pédestre
DESCRIPTION:Le lieu de départ sera annoncé quelques jours avant la randonnée.\n 
URL:https://www.erbree.fr/agenda/erbree-rando-randonnee-pedestre-22/
ORGANIZER;CN="Erbr%C3%A9e-Rando":MAILTO:guesdon.marie-christine@wanadoo.fr ou joel.marquet27@gmail.com
END:VEVENT
BEGIN:VEVENT
DTSTART;TZID=Europe/Paris:20260922T094500
DTEND;TZID=Europe/Paris:20260922T110000
DTSTAMP:20260421T231142
CREATED:20251028T174458Z
LAST-MODIFIED:20251028T174458Z
UID:28305-1790070300-1790074800@www.erbree.fr
SUMMARY:Relais Petite Enfance : Atelier d’éveil 0-3 ans
DESCRIPTION:Réservé aux professionnels(les) de la petite enfance\nSur inscription
URL:https://www.erbree.fr/agenda/relais-petite-enfance-atelier-deveil-0-3-ans-24/
LOCATION:Espace Multifonctions René Blandeau\, Ruelle des Lavandières\, ERBRÉE\, 35500
ORGANIZER;CN="Relais Petite Enfance (RPE)":MAILTO:rpe@chatillon-en-vendelais.fr
END:VEVENT
BEGIN:VEVENT
DTSTART;TZID=Europe/Paris:20261006T094500
DTEND;TZID=Europe/Paris:20261006T110000
DTSTAMP:20260421T231142
CREATED:20251028T174600Z
LAST-MODIFIED:20251028T174600Z
UID:28307-1791279900-1791284400@www.erbree.fr
SUMMARY:Relais Petite Enfance : Atelier d’éveil 0-3 ans
DESCRIPTION:Réservé aux professionnels(les) de la petite enfance\nSur inscription
URL:https://www.erbree.fr/agenda/relais-petite-enfance-atelier-deveil-0-3-ans-25/
LOCATION:Espace Multifonctions René Blandeau\, Ruelle des Lavandières\, ERBRÉE\, 35500
ORGANIZER;CN="Relais Petite Enfance (RPE)":MAILTO:rpe@chatillon-en-vendelais.fr
END:VEVENT
BEGIN:VEVENT
DTSTART;TZID=Europe/Paris:20261007T160000
DTEND;TZID=Europe/Paris:20261007T163000
DTSTAMP:20260421T231142
CREATED:20251218T183616Z
LAST-MODIFIED:20251218T183616Z
UID:29081-1791388800-1791390600@www.erbree.fr
SUMMARY:Bibliothèque : Raconte-moi une histoire !
DESCRIPTION:
URL:https://www.erbree.fr/agenda/bibliotheque-raconte-moi-une-histoire-18/
LOCATION:Bibliothèque\, Rue de Bretagne\, Erbrée\, 35500
ORGANIZER;CN="Biblioth%C3%A8que":MAILTO:biblio@erbree.fr
END:VEVENT
BEGIN:VEVENT
DTSTART;TZID=Europe/Paris:20261008T140000
DTEND;TZID=Europe/Paris:20261008T140000
DTSTAMP:20260421T231142
CREATED:20251028T181505Z
LAST-MODIFIED:20251028T181505Z
UID:28341-1791468000-1791468000@www.erbree.fr
SUMMARY:Club de la 2ème Jeunesse : Bal
DESCRIPTION:
URL:https://www.erbree.fr/agenda/club-de-la-2eme-jeunesse-bal-18/
LOCATION:Salle des fêtes\, Rue Pierre Simon\, Erbrée\, 35500
ORGANIZER;CN="Relais Petite Enfance (RPE)":MAILTO:rpe@chatillon-en-vendelais.fr
END:VEVENT
BEGIN:VEVENT
DTSTART;TZID=Europe/Paris:20261013T140000
DTEND;TZID=Europe/Paris:20261013T140000
DTSTAMP:20260421T231142
CREATED:20251218T183855Z
LAST-MODIFIED:20251218T183855Z
UID:29083-1791900000-1791900000@www.erbree.fr
SUMMARY:Club de la 2ème Jeunesse : Concours de belote
DESCRIPTION:
URL:https://www.erbree.fr/agenda/club-de-la-2eme-jeunesse-concours-de-belote-2/
LOCATION:Salle des fêtes\, Rue Pierre Simon\, Erbrée\, 35500
ORGANIZER;CN="Club de la 2%C3%A8me Jeunesse":MAILTO:alaincornee@aol.com
END:VEVENT
BEGIN:VEVENT
DTSTART;VALUE=DATE:20261019
DTEND;VALUE=DATE:20261020
DTSTAMP:20260421T231142
CREATED:20251218T184047Z
LAST-MODIFIED:20251218T184047Z
UID:29085-1792368000-1792454399@www.erbree.fr
SUMMARY:Erbrée-Rando : Randonnée Pédestre
DESCRIPTION:Le lieu de départ sera annoncé quelques jours avant la randonnée.\n 
URL:https://www.erbree.fr/agenda/erbree-rando-randonnee-pedestre-23/
ORGANIZER;CN="Erbr%C3%A9e-Rando":MAILTO:guesdon.marie-christine@wanadoo.fr ou joel.marquet27@gmail.com
END:VEVENT
BEGIN:VEVENT
DTSTART;VALUE=DATE:20261031
DTEND;VALUE=DATE:20261101
DTSTAMP:20260421T231142
CREATED:20251218T184210Z
LAST-MODIFIED:20251218T184210Z
UID:29087-1793404800-1793491199@www.erbree.fr
SUMMARY:La Vie en Tête : Halloween
DESCRIPTION:
URL:https://www.erbree.fr/agenda/la-vie-en-tete-halloween/
LOCATION:Salle des fêtes\, Rue Pierre Simon\, Erbrée\, 35500
ORGANIZER;CN="La Vie en T%C3%AAte":MAILTO:lavieentete@gmail.com
END:VEVENT
BEGIN:VEVENT
DTSTART;TZID=Europe/Paris:20261103T094500
DTEND;TZID=Europe/Paris:20261103T110000
DTSTAMP:20260421T231142
CREATED:20251028T174710Z
LAST-MODIFIED:20251028T174710Z
UID:28309-1793699100-1793703600@www.erbree.fr
SUMMARY:Relais Petite Enfance : Atelier d’éveil 0-3 ans
DESCRIPTION:Réservé aux professionnels(les) de la petite enfance\nSur inscription
URL:https://www.erbree.fr/agenda/relais-petite-enfance-atelier-deveil-0-3-ans-29/
LOCATION:Espace Multifonctions René Blandeau\, Ruelle des Lavandières\, ERBRÉE\, 35500
ORGANIZER;CN="Relais Petite Enfance (RPE)":MAILTO:rpe@chatillon-en-vendelais.fr
END:VEVENT
BEGIN:VEVENT
DTSTART;TZID=Europe/Paris:20261104T160000
DTEND;TZID=Europe/Paris:20261104T163000
DTSTAMP:20260421T231142
CREATED:20251218T184726Z
LAST-MODIFIED:20251218T184726Z
UID:29095-1793808000-1793809800@www.erbree.fr
SUMMARY:Bibliothèque : Raconte-moi une histoire !
DESCRIPTION:
URL:https://www.erbree.fr/agenda/bibliotheque-raconte-moi-une-histoire-19/
LOCATION:Bibliothèque\, Rue de Bretagne\, Erbrée\, 35500
ORGANIZER;CN="Biblioth%C3%A8que":MAILTO:biblio@erbree.fr
END:VEVENT
BEGIN:VEVENT
DTSTART;VALUE=DATE:20261111
DTEND;VALUE=DATE:20261112
DTSTAMP:20260421T231142
CREATED:20251218T184837Z
LAST-MODIFIED:20251218T184837Z
UID:29097-1794355200-1794441599@www.erbree.fr
SUMMARY:UNC : Commémoration
DESCRIPTION:
URL:https://www.erbree.fr/agenda/unc-commemoration/
LOCATION:Monument aux Morts\, Place de l'église\, Erbrée\, 35500
ORGANIZER;CN="UNC (Union Nationale des Combattants)":MAILTO:erbreemondevert35500@unc-35.fr
END:VEVENT
BEGIN:VEVENT
DTSTART;TZID=Europe/Paris:20261112T140000
DTEND;TZID=Europe/Paris:20261112T140000
DTSTAMP:20260421T231142
CREATED:20251028T181607Z
LAST-MODIFIED:20251028T181607Z
UID:28343-1794492000-1794492000@www.erbree.fr
SUMMARY:Club de la 2ème Jeunesse : Bal
DESCRIPTION:
URL:https://www.erbree.fr/agenda/club-de-la-2eme-jeunesse-bal-19/
LOCATION:Salle des fêtes\, Rue Pierre Simon\, Erbrée\, 35500
ORGANIZER;CN="Club de la 2%C3%A8me Jeunesse":MAILTO:alaincornee@aol.com
END:VEVENT
BEGIN:VEVENT
DTSTART;VALUE=DATE:20261116
DTEND;VALUE=DATE:20261117
DTSTAMP:20260421T231142
CREATED:20251218T184341Z
LAST-MODIFIED:20251218T184341Z
UID:29089-1794787200-1794873599@www.erbree.fr
SUMMARY:Erbrée-Rando : Randonnée Pédestre
DESCRIPTION:Le lieu de départ sera annoncé quelques jours avant la randonnée.\n 
URL:https://www.erbree.fr/agenda/erbree-rando-randonnee-pedestre-24/
ORGANIZER;CN="Erbr%C3%A9e-Rando":MAILTO:guesdon.marie-christine@wanadoo.fr ou joel.marquet27@gmail.com
END:VEVENT
BEGIN:VEVENT
DTSTART;TZID=Europe/Paris:20261117T094500
DTEND;TZID=Europe/Paris:20261117T110000
DTSTAMP:20260421T231142
CREATED:20251028T174824Z
LAST-MODIFIED:20251028T174824Z
UID:28311-1794908700-1794913200@www.erbree.fr
SUMMARY:Relais Petite Enfance : Atelier d’éveil 0-3 ans
DESCRIPTION:Réservé aux professionnels(les) de la petite enfance\nSur inscription
URL:https://www.erbree.fr/agenda/relais-petite-enfance-atelier-deveil-0-3-ans-30/
LOCATION:Espace Multifonctions René Blandeau\, Ruelle des Lavandières\, ERBRÉE\, 35500
ORGANIZER;CN="Relais Petite Enfance (RPE)":MAILTO:rpe@chatillon-en-vendelais.fr
END:VEVENT
BEGIN:VEVENT
DTSTART;VALUE=DATE:20261130
DTEND;VALUE=DATE:20261201
DTSTAMP:20260421T231142
CREATED:20251218T184430Z
LAST-MODIFIED:20251218T184430Z
UID:29091-1795996800-1796083199@www.erbree.fr
SUMMARY:Erbrée-Rando : Randonnée Pédestre
DESCRIPTION:Le lieu de départ sera annoncé quelques jours avant la randonnée.\n 
URL:https://www.erbree.fr/agenda/erbree-rando-randonnee-pedestre-25/
ORGANIZER;CN="Erbr%C3%A9e-Rando":MAILTO:guesdon.marie-christine@wanadoo.fr ou joel.marquet27@gmail.com
END:VEVENT
BEGIN:VEVENT
DTSTART;TZID=Europe/Paris:20261201T094500
DTEND;TZID=Europe/Paris:20261201T110000
DTSTAMP:20260421T231142
CREATED:20251028T174928Z
LAST-MODIFIED:20251028T174928Z
UID:28313-1796118300-1796122800@www.erbree.fr
SUMMARY:Relais Petite Enfance : Atelier d’éveil 0-3 ans
DESCRIPTION:Réservé aux professionnels(les) de la petite enfance\nSur inscription
URL:https://www.erbree.fr/agenda/relais-petite-enfance-atelier-deveil-0-3-ans-31/
LOCATION:Espace Multifonctions René Blandeau\, Ruelle des Lavandières\, ERBRÉE\, 35500
ORGANIZER;CN="Relais Petite Enfance (RPE)":MAILTO:rpe@chatillon-en-vendelais.fr
END:VEVENT
BEGIN:VEVENT
DTSTART;TZID=Europe/Paris:20261202T160000
DTEND;TZID=Europe/Paris:20261202T163000
DTSTAMP:20260421T231142
CREATED:20251218T185001Z
LAST-MODIFIED:20251218T185001Z
UID:29099-1796227200-1796229000@www.erbree.fr
SUMMARY:Bibliothèque : Raconte-moi une histoire !
DESCRIPTION:
URL:https://www.erbree.fr/agenda/bibliotheque-raconte-moi-une-histoire-20/
LOCATION:Bibliothèque\, Rue de Bretagne\, Erbrée\, 35500
ORGANIZER;CN="Biblioth%C3%A8que":MAILTO:biblio@erbree.fr
END:VEVENT
BEGIN:VEVENT
DTSTART;TZID=Europe/Paris:20261210T140000
DTEND;TZID=Europe/Paris:20261210T140000
DTSTAMP:20260421T231142
CREATED:20251028T181655Z
LAST-MODIFIED:20251028T181655Z
UID:28345-1796911200-1796911200@www.erbree.fr
SUMMARY:Club de la 2ème Jeunesse : Bal
DESCRIPTION:
URL:https://www.erbree.fr/agenda/club-de-la-2eme-jeunesse-bal-20/
LOCATION:Salle des fêtes\, Rue Pierre Simon\, Erbrée\, 35500
ORGANIZER;CN="Club de la 2%C3%A8me Jeunesse":MAILTO:alaincornee@aol.com
END:VEVENT
BEGIN:VEVENT
DTSTART;VALUE=DATE:20261214
DTEND;VALUE=DATE:20261215
DTSTAMP:20260421T231142
CREATED:20251218T184604Z
LAST-MODIFIED:20251218T184604Z
UID:29093-1797206400-1797292799@www.erbree.fr
SUMMARY:Erbrée-Rando : Randonnée Pédestre
DESCRIPTION:Le lieu de départ sera annoncé quelques jours avant la randonnée.\n 
URL:https://www.erbree.fr/agenda/erbree-rando-randonnee-pedestre-26/
ORGANIZER;CN="Erbr%C3%A9e-Rando":MAILTO:guesdon.marie-christine@wanadoo.fr ou joel.marquet27@gmail.com
END:VEVENT
BEGIN:VEVENT
DTSTART;TZID=Europe/Paris:20261215T094500
DTEND;TZID=Europe/Paris:20261215T110000
DTSTAMP:20260421T231142
CREATED:20251028T175038Z
LAST-MODIFIED:20251028T175038Z
UID:28315-1797327900-1797332400@www.erbree.fr
SUMMARY:Relais Petite Enfance : Atelier d’éveil 0-3 ans
DESCRIPTION:Réservé aux professionnels(les) de la petite enfance\nSur inscription
URL:https://www.erbree.fr/agenda/relais-petite-enfance-atelier-deveil-0-3-ans-32/
LOCATION:Espace Multifonctions René Blandeau\, Ruelle des Lavandières\, ERBRÉE\, 35500
ORGANIZER;CN="Relais Petite Enfance (RPE)":MAILTO:rpe@chatillon-en-vendelais.fr
END:VEVENT
END:VCALENDAR