BEGIN:VCALENDAR
VERSION:2.0
PRODID:-//Erbrée - ECPv6.15.20//NONSGML v1.0//EN
CALSCALE:GREGORIAN
METHOD:PUBLISH
X-WR-CALNAME:Erbrée
X-ORIGINAL-URL:https://www.erbree.fr
X-WR-CALDESC:Évènements pour Erbrée
REFRESH-INTERVAL;VALUE=DURATION:PT1H
X-Robots-Tag:noindex
X-PUBLISHED-TTL:PT1H
BEGIN:VTIMEZONE
TZID:Europe/Paris
BEGIN:DAYLIGHT
TZOFFSETFROM:+0100
TZOFFSETTO:+0200
TZNAME:CEST
DTSTART:20250330T010000
END:DAYLIGHT
BEGIN:STANDARD
TZOFFSETFROM:+0200
TZOFFSETTO:+0100
TZNAME:CET
DTSTART:20251026T010000
END:STANDARD
BEGIN:DAYLIGHT
TZOFFSETFROM:+0100
TZOFFSETTO:+0200
TZNAME:CEST
DTSTART:20260329T010000
END:DAYLIGHT
BEGIN:STANDARD
TZOFFSETFROM:+0200
TZOFFSETTO:+0100
TZNAME:CET
DTSTART:20261025T010000
END:STANDARD
BEGIN:DAYLIGHT
TZOFFSETFROM:+0100
TZOFFSETTO:+0200
TZNAME:CEST
DTSTART:20270328T010000
END:DAYLIGHT
BEGIN:STANDARD
TZOFFSETFROM:+0200
TZOFFSETTO:+0100
TZNAME:CET
DTSTART:20271031T010000
END:STANDARD
END:VTIMEZONE
BEGIN:VEVENT
DTSTART;TZID=Europe/Paris:20260426T080000
DTEND;TZID=Europe/Paris:20260426T170000
DTSTAMP:20260421T134824
CREATED:20251211T175113Z
LAST-MODIFIED:20260410T071645Z
UID:28917-1777190400-1777222800@www.erbree.fr
SUMMARY:La Vie en Tête : Randonnée Gourmande
DESCRIPTION:
URL:https://www.erbree.fr/agenda/la-vien-tete-randonnee-gourmande/
ORGANIZER;CN="La Vie en T%C3%AAte":MAILTO:lavieentete@gmail.com
END:VEVENT
BEGIN:VEVENT
DTSTART;TZID=Europe/Paris:20260428T094500
DTEND;TZID=Europe/Paris:20260428T110000
DTSTAMP:20260421T134824
CREATED:20251028T173850Z
LAST-MODIFIED:20251028T173850Z
UID:28295-1777369500-1777374000@www.erbree.fr
SUMMARY:Relais Petite Enfance : Atelier d’éveil 0-3 ans
DESCRIPTION:Réservé aux professionnels(les) de la petite enfance\nSur inscription
URL:https://www.erbree.fr/agenda/relais-petite-enfance-atelier-deveil-0-3-ans-13/
LOCATION:Espace Multifonctions René Blandeau\, Ruelle des Lavandières\, ERBRÉE\, 35500
ORGANIZER;CN="Relais Petite Enfance (RPE)":MAILTO:rpe@chatillon-en-vendelais.fr
END:VEVENT
BEGIN:VEVENT
DTSTART;TZID=Europe/Paris:20260428T140000
DTEND;TZID=Europe/Paris:20260428T140000
DTSTAMP:20260421T134824
CREATED:20251218T180149Z
LAST-MODIFIED:20251218T180149Z
UID:29049-1777384800-1777384800@www.erbree.fr
SUMMARY:Club de la 2ème Jeunesse : Gai savoir
DESCRIPTION:
URL:https://www.erbree.fr/agenda/club-de-la-2eme-jeunesse-gai-savoir/
LOCATION:Salle des fêtes\, Rue Pierre Simon\, Erbrée\, 35500
ORGANIZER;CN="Club de la 2%C3%A8me Jeunesse":MAILTO:alaincornee@aol.com
END:VEVENT
BEGIN:VEVENT
DTSTART;TZID=Europe/Paris:20260504T140000
DTEND;TZID=Europe/Paris:20260504T140000
DTSTAMP:20260421T134824
CREATED:20251211T180218Z
LAST-MODIFIED:20251211T180218Z
UID:28919-1777903200-1777903200@www.erbree.fr
SUMMARY:Erbrée-Rando : Randonnée Pédestre
DESCRIPTION:Le lieu de départ sera annoncé quelques jours avant la randonnée.\n 
URL:https://www.erbree.fr/agenda/erbree-rando-randonnee-pedestre-16/
ORGANIZER;CN="Erbr%C3%A9e-Rando":MAILTO:guesdon.marie-christine@wanadoo.fr ou joel.marquet27@gmail.com
END:VEVENT
BEGIN:VEVENT
DTSTART;TZID=Europe/Paris:20260505T193000
DTEND;TZID=Europe/Paris:20260505T213000
DTSTAMP:20260421T134824
CREATED:20251211T180355Z
LAST-MODIFIED:20260417T070000Z
UID:28921-1778009400-1778016600@www.erbree.fr
SUMMARY:Bibliothèque : Soirée des convivialités
DESCRIPTION:
URL:https://www.erbree.fr/agenda/bibliotheque-tricot-papote-7/
LOCATION:Bibliothèque\, Rue de Bretagne\, Erbrée\, 35500
ORGANIZER;CN="Biblioth%C3%A8que":MAILTO:biblio@erbree.fr
END:VEVENT
BEGIN:VEVENT
DTSTART;TZID=Europe/Paris:20260505T200000
DTEND;TZID=Europe/Paris:20260505T200000
DTSTAMP:20260421T134824
CREATED:20260414T170516Z
LAST-MODIFIED:20260414T170652Z
UID:31673-1778011200-1778011200@www.erbree.fr
SUMMARY:Mairie - Conseil Municipal
DESCRIPTION:Le Conseil Municipal se réunira à la mairie \nLe MARDI 5 MAI à 20h\n  \nOrdre du jour :\n* Il sera inséré quelques jours avant la réunion.
URL:https://www.erbree.fr/agenda/mairie-conseil-municipal-3/
LOCATION:Mairie\, 12 rue de Bretagne\, Erbrée\, 35500
ORGANIZER;CN="Mairie":MAILTO:mairie@erbree.fr
END:VEVENT
BEGIN:VEVENT
DTSTART;TZID=Europe/Paris:20260506T140000
DTEND;TZID=Europe/Paris:20260506T160000
DTSTAMP:20260421T134824
CREATED:20251211T181649Z
LAST-MODIFIED:20251211T181649Z
UID:28924-1778076000-1778083200@www.erbree.fr
SUMMARY:Bibliothèque - La souris verte
DESCRIPTION:
URL:https://www.erbree.fr/agenda/bibliotheque-la-souris-verte-5/
LOCATION:Bibliothèque\, Rue de Bretagne\, Erbrée\, 35500
ORGANIZER;CN="Biblioth%C3%A8que":MAILTO:biblio@erbree.fr
END:VEVENT
BEGIN:VEVENT
DTSTART;TZID=Europe/Paris:20260506T160000
DTEND;TZID=Europe/Paris:20260506T163000
DTSTAMP:20260421T134824
CREATED:20251211T181948Z
LAST-MODIFIED:20251211T181948Z
UID:28926-1778083200-1778085000@www.erbree.fr
SUMMARY:Bibliothèque : Raconte-moi une histoire !
DESCRIPTION:
URL:https://www.erbree.fr/agenda/bibliotheque-raconte-moi-une-histoire-13/
LOCATION:Bibliothèque\, Rue de Bretagne\, Erbrée\, 35500
ORGANIZER;CN="Biblioth%C3%A8que":MAILTO:biblio@erbree.fr
END:VEVENT
BEGIN:VEVENT
DTSTART;VALUE=DATE:20260508
DTEND;VALUE=DATE:20260509
DTSTAMP:20260421T134824
CREATED:20251211T182710Z
LAST-MODIFIED:20251211T182710Z
UID:28928-1778198400-1778284799@www.erbree.fr
SUMMARY:Ervored palets : Concours de Palets
DESCRIPTION:
URL:https://www.erbree.fr/agenda/ervored-palets-concours-de-palets/
LOCATION:Salle des fêtes\, Rue Pierre Simon\, Erbrée\, 35500
ORGANIZER;CN="Ervored Palets":MAILTO:manceau.wilfried@gmail.com
END:VEVENT
BEGIN:VEVENT
DTSTART;VALUE=DATE:20260510
DTEND;VALUE=DATE:20260511
DTSTAMP:20260421T134824
CREATED:20251218T183147Z
LAST-MODIFIED:20251218T183147Z
UID:29076-1778371200-1778457599@www.erbree.fr
SUMMARY:UNC : Commémoration à Mondevert
DESCRIPTION:
URL:https://www.erbree.fr/agenda/unc-commemoration-a-mondevert/
ORGANIZER;CN="UNC (Union Nationale des Combattants)":MAILTO:erbreemondevert35500@unc-35.fr
END:VEVENT
BEGIN:VEVENT
DTSTART;TZID=Europe/Paris:20260514T140000
DTEND;TZID=Europe/Paris:20260514T140000
DTSTAMP:20260421T134825
CREATED:20251028T180927Z
LAST-MODIFIED:20251028T180927Z
UID:28331-1778767200-1778767200@www.erbree.fr
SUMMARY:Club de la 2ème Jeunesse : Bal
DESCRIPTION:
URL:https://www.erbree.fr/agenda/club-de-la-2eme-jeunesse-bal-6/
LOCATION:Salle des fêtes\, Rue Pierre Simon\, Erbrée\, 35500
ORGANIZER;CN="Club de la 2%C3%A8me Jeunesse":MAILTO:alaincornee@aol.com
END:VEVENT
BEGIN:VEVENT
DTSTART;VALUE=DATE:20260518
DTEND;VALUE=DATE:20260519
DTSTAMP:20260421T134825
CREATED:20251211T182859Z
LAST-MODIFIED:20251211T182859Z
UID:28930-1779062400-1779148799@www.erbree.fr
SUMMARY:Erbrée-Rando : Randonnée Pédestre
DESCRIPTION:Le lieu de départ sera annoncé quelques jours avant la randonnée.\n 
URL:https://www.erbree.fr/agenda/erbree-rando-randonnee-pedestre-17/
ORGANIZER;CN="Erbr%C3%A9e-Rando":MAILTO:guesdon.marie-christine@wanadoo.fr ou joel.marquet27@gmail.com
END:VEVENT
BEGIN:VEVENT
DTSTART;TZID=Europe/Paris:20260526T094500
DTEND;TZID=Europe/Paris:20260526T110000
DTSTAMP:20260421T134825
CREATED:20251028T173958Z
LAST-MODIFIED:20251028T173958Z
UID:28297-1779788700-1779793200@www.erbree.fr
SUMMARY:Relais Petite Enfance : Atelier d’éveil 0-3 ans
DESCRIPTION:Réservé aux professionnels(les) de la petite enfance\nSur inscription
URL:https://www.erbree.fr/agenda/relais-petite-enfance-atelier-deveil-0-3-ans-20/
LOCATION:Espace Multifonctions René Blandeau\, Ruelle des Lavandières\, ERBRÉE\, 35500
ORGANIZER;CN="Relais Petite Enfance (RPE)":MAILTO:rpe@chatillon-en-vendelais.fr
END:VEVENT
BEGIN:VEVENT
DTSTART;TZID=Europe/Paris:20260602T193000
DTEND;TZID=Europe/Paris:20260602T213000
DTSTAMP:20260421T134825
CREATED:20251211T183209Z
LAST-MODIFIED:20260417T070539Z
UID:28932-1780428600-1780435800@www.erbree.fr
SUMMARY:Bibliothèque : Soirée des convivialités
DESCRIPTION:
URL:https://www.erbree.fr/agenda/bibliotheque-tricot-papote-8/
LOCATION:Bibliothèque\, Rue de Bretagne\, Erbrée\, 35500
ORGANIZER;CN="Biblioth%C3%A8que":MAILTO:biblio@erbree.fr
END:VEVENT
BEGIN:VEVENT
DTSTART;TZID=Europe/Paris:20260603T140000
DTEND;TZID=Europe/Paris:20260603T160000
DTSTAMP:20260421T134825
CREATED:20251211T183317Z
LAST-MODIFIED:20251211T183317Z
UID:28934-1780495200-1780502400@www.erbree.fr
SUMMARY:Bibliothèque : La souris verte
DESCRIPTION:
URL:https://www.erbree.fr/agenda/bibliotheque-la-souris-verte-6/
LOCATION:Bibliothèque\, Rue de Bretagne\, Erbrée\, 35500
ORGANIZER;CN="Biblioth%C3%A8que":MAILTO:biblio@erbree.fr
END:VEVENT
BEGIN:VEVENT
DTSTART;TZID=Europe/Paris:20260603T160000
DTEND;TZID=Europe/Paris:20260603T163000
DTSTAMP:20260421T134825
CREATED:20251211T183434Z
LAST-MODIFIED:20251211T183434Z
UID:28936-1780502400-1780504200@www.erbree.fr
SUMMARY:Bibliothèque : Raconte-moi une histoire !
DESCRIPTION:
URL:https://www.erbree.fr/agenda/bibliotheque-raconte-moi-une-histoire-14/
LOCATION:Bibliothèque\, Rue de Bretagne\, Erbrée\, 35500
ORGANIZER;CN="Biblioth%C3%A8que":MAILTO:biblio@erbree.fr
END:VEVENT
BEGIN:VEVENT
DTSTART;TZID=Europe/Paris:20260609T094500
DTEND;TZID=Europe/Paris:20260609T110000
DTSTAMP:20260421T134825
CREATED:20251028T174113Z
LAST-MODIFIED:20251028T174113Z
UID:28299-1780998300-1781002800@www.erbree.fr
SUMMARY:Relais Petite Enfance : Atelier d’éveil 0-3 ans
DESCRIPTION:Réservé aux professionnels(les) de la petite enfance\nSur inscription
URL:https://www.erbree.fr/agenda/relais-petite-enfance-atelier-deveil-0-3-ans-21/
LOCATION:Espace Multifonctions René Blandeau\, Ruelle des Lavandières\, ERBRÉE\, 35500
ORGANIZER;CN="Relais Petite Enfance (RPE)":MAILTO:rpe@chatillon-en-vendelais.fr
END:VEVENT
BEGIN:VEVENT
DTSTART;TZID=Europe/Paris:20260609T200000
DTEND;TZID=Europe/Paris:20260609T200000
DTSTAMP:20260421T134825
CREATED:20260414T170822Z
LAST-MODIFIED:20260414T170915Z
UID:31677-1781035200-1781035200@www.erbree.fr
SUMMARY:Mairie - Conseil Municipal
DESCRIPTION:Le Conseil Municipal se réunira à la mairie \nLe MARDI 9 JUIN à 20h\n  \nOrdre du jour :\n* Il sera inséré quelques jours avant la réunion.
URL:https://www.erbree.fr/agenda/mairie-conseil-municipal-4/
LOCATION:Mairie\, 12 rue de Bretagne\, Erbrée\, 35500
ORGANIZER;CN="Mairie":MAILTO:mairie@erbree.fr
END:VEVENT
BEGIN:VEVENT
DTSTART;TZID=Europe/Paris:20260611T140000
DTEND;TZID=Europe/Paris:20260611T140000
DTSTAMP:20260421T134825
CREATED:20251028T181100Z
LAST-MODIFIED:20251028T181100Z
UID:28333-1781186400-1781186400@www.erbree.fr
SUMMARY:Club de la 2ème Jeunesse : Bal
DESCRIPTION:
URL:https://www.erbree.fr/agenda/club-de-la-2eme-jeunesse-bal-7/
LOCATION:Salle des fêtes\, Rue Pierre Simon\, Erbrée\, 35500
ORGANIZER;CN="Club de la 2%C3%A8me Jeunesse":MAILTO:alaincornee@aol.com
END:VEVENT
BEGIN:VEVENT
DTSTART;TZID=Europe/Paris:20260612T100000
DTEND;TZID=Europe/Paris:20260612T120000
DTSTAMP:20260421T134825
CREATED:20251211T183538Z
LAST-MODIFIED:20251211T184156Z
UID:28939-1781258400-1781265600@www.erbree.fr
SUMMARY:Bibliothèque : La souris des champs
DESCRIPTION:
URL:https://www.erbree.fr/agenda/bibliotheque-la-souris-des-champs-5/
LOCATION:Bibliothèque\, Rue de Bretagne\, Erbrée\, 35500
ORGANIZER;CN="Biblioth%C3%A8que":MAILTO:biblio@erbree.fr
END:VEVENT
BEGIN:VEVENT
DTSTART;VALUE=DATE:20260613
DTEND;VALUE=DATE:20260614
DTSTAMP:20260421T134825
CREATED:20251218T183412Z
LAST-MODIFIED:20251218T183412Z
UID:29078-1781308800-1781395199@www.erbree.fr
SUMMARY:L'Hermine EBM : Tournoi Inter-Quartier à Bréal-sous-Vitré
DESCRIPTION:
URL:https://www.erbree.fr/agenda/lhermine-ebm-tournoi-inter-quartier-a-breal-sous-vitre/
ORGANIZER;CN="L'Hermine EBM":MAILTO:thierry.tireau@orange.fr
END:VEVENT
BEGIN:VEVENT
DTSTART;VALUE=DATE:20260615
DTEND;VALUE=DATE:20260616
DTSTAMP:20260421T134825
CREATED:20251211T184545Z
LAST-MODIFIED:20251211T184545Z
UID:28941-1781481600-1781567999@www.erbree.fr
SUMMARY:Erbrée-Rando : Randonnée Pédestre
DESCRIPTION:Le lieu de départ sera annoncé quelques jours avant la randonnée.\n 
URL:https://www.erbree.fr/agenda/erbree-rando-randonnee-pedestre-18/
ORGANIZER;CN="Erbr%C3%A9e-Rando":MAILTO:guesdon.marie-christine@wanadoo.fr ou joel.marquet27@gmail.com
END:VEVENT
BEGIN:VEVENT
DTSTART;VALUE=DATE:20260620
DTEND;VALUE=DATE:20260621
DTSTAMP:20260421T134825
CREATED:20251211T184702Z
LAST-MODIFIED:20251211T184702Z
UID:28943-1781913600-1781999999@www.erbree.fr
SUMMARY:École Sainte-Anne : KERMESSE
DESCRIPTION:
URL:https://www.erbree.fr/agenda/ecole-sainte-anne-kermesse/
LOCATION:Complexe sportif
END:VEVENT
BEGIN:VEVENT
DTSTART;TZID=Europe/Paris:20260623T094500
DTEND;TZID=Europe/Paris:20260623T110000
DTSTAMP:20260421T134825
CREATED:20251028T174225Z
LAST-MODIFIED:20251028T174225Z
UID:28301-1782207900-1782212400@www.erbree.fr
SUMMARY:Relais Petite Enfance : Atelier d’éveil 0-3 ans
DESCRIPTION:Réservé aux professionnels(les) de la petite enfance\nSur inscription
URL:https://www.erbree.fr/agenda/relais-petite-enfance-atelier-deveil-0-3-ans-22/
LOCATION:Espace Multifonctions René Blandeau\, Ruelle des Lavandières\, ERBRÉE\, 35500
ORGANIZER;CN="Relais Petite Enfance (RPE)":MAILTO:rpe@chatillon-en-vendelais.fr
END:VEVENT
BEGIN:VEVENT
DTSTART;VALUE=DATE:20260624
DTEND;VALUE=DATE:20260625
DTSTAMP:20260421T134825
CREATED:20251211T184843Z
LAST-MODIFIED:20251211T184843Z
UID:28945-1782259200-1782345599@www.erbree.fr
SUMMARY:UNC : Journée détente
DESCRIPTION:
URL:https://www.erbree.fr/agenda/unc-journee-detente-2/
LOCATION:Salle des fêtes\, Rue Pierre Simon\, Erbrée\, 35500
ORGANIZER;CN="UNC (Union Nationale des Combattants)":MAILTO:erbreemondevert35500@unc-35.fr
END:VEVENT
BEGIN:VEVENT
DTSTART;VALUE=DATE:20260629
DTEND;VALUE=DATE:20260630
DTSTAMP:20260421T134825
CREATED:20251211T184937Z
LAST-MODIFIED:20251211T184937Z
UID:28947-1782691200-1782777599@www.erbree.fr
SUMMARY:Erbrée-Rando : Randonnée Pédestre
DESCRIPTION:Le lieu de départ sera annoncé quelques jours avant la randonnée.\n 
URL:https://www.erbree.fr/agenda/erbree-rando-randonnee-pedestre-19/
ORGANIZER;CN="Erbr%C3%A9e-Rando":MAILTO:guesdon.marie-christine@wanadoo.fr ou joel.marquet27@gmail.com
END:VEVENT
BEGIN:VEVENT
DTSTART;TZID=Europe/Paris:20260701T160000
DTEND;TZID=Europe/Paris:20260701T163000
DTSTAMP:20260421T134825
CREATED:20251211T185139Z
LAST-MODIFIED:20251211T185139Z
UID:28949-1782921600-1782923400@www.erbree.fr
SUMMARY:Bibliothèque : Raconte-moi une histoire !
DESCRIPTION:
URL:https://www.erbree.fr/agenda/bibliotheque-raconte-moi-une-histoire-15/
LOCATION:Bibliothèque\, Rue de Bretagne\, Erbrée\, 35500
ORGANIZER;CN="Biblioth%C3%A8que":MAILTO:biblio@erbree.fr
END:VEVENT
BEGIN:VEVENT
DTSTART;TZID=Europe/Paris:20260709T140000
DTEND;TZID=Europe/Paris:20260709T140000
DTSTAMP:20260421T134825
CREATED:20251028T181151Z
LAST-MODIFIED:20251028T181151Z
UID:28335-1783605600-1783605600@www.erbree.fr
SUMMARY:Club de la 2ème Jeunesse : Bal
DESCRIPTION:
URL:https://www.erbree.fr/agenda/club-de-la-2eme-jeunesse-bal-8/
LOCATION:Salle des fêtes\, Rue Pierre Simon\, Erbrée\, 35500
ORGANIZER;CN="Club de la 2%C3%A8me Jeunesse":MAILTO:alaincornee@aol.com
END:VEVENT
BEGIN:VEVENT
DTSTART;VALUE=DATE:20260713
DTEND;VALUE=DATE:20260720
DTSTAMP:20260421T134825
CREATED:20251218T180748Z
LAST-MODIFIED:20251218T181209Z
UID:29054-1783900800-1784505599@www.erbree.fr
SUMMARY:Thélème : Grand festival de théâtre et de musique
DESCRIPTION:
URL:https://www.erbree.fr/agenda/club-de-la-2eme-jeunesse-bal-22/
LOCATION:Château des Bretonnières\, Erbrée\, 35500
ORGANIZER;CN="Th%C3%A9l%C3%A8me - La Culture en pleine Nature":MAILTO:theleme.arts@gmail.com
END:VEVENT
BEGIN:VEVENT
DTSTART;TZID=Europe/Paris:20260713T183000
DTEND;TZID=Europe/Paris:20260713T183000
DTSTAMP:20260421T134825
CREATED:20260414T172554Z
LAST-MODIFIED:20260414T174637Z
UID:31679-1783967400-1783967400@www.erbree.fr
SUMMARY:Erbrée-Bamboche : La Bamboche Summer
DESCRIPTION:   La Bamboche Summer : une soirée musicale festive à Erbrée. L’association La Bamboche organise une soirée estivale “Bamboche Summer”\, le lundi 13 juillet 2026 à partir de 18h30\, place de l’Église.\nGratuit et ouvert à tous\, cet événement a pour objectif de rassembler habitants et visiteurs autour d’un moment convivial et festif pour lancer l’été comme il se doit !\n  \n\n   Une programmation musicale variée :\n  \n\n   DC Origin (folk irlandais)\nDuo issu du groupe Dorcha Cobs\, DC Origin mêle musique celtique et influences rock. Avec guitare et cornemuse irlandaise\, ils proposent un répertoire festif inspiré des pubs irlandais\, alternant reprises et compositions originales.\n  \n\n   Les Stu (rock)\nGroupe formé entre Rennes et Fougères\, Les Stu livrent un rock énergique porté par une voix féminine et une instrumentation puissante. Leur prestation dynamique est résolument tournée vers le live et le partage avec le public.\n  \n\n   Birdy J (DJ)\nDJ breton expérimenté\, Birdy J proposera un set éclectique mêlant classiques et musiques actuelles\, avec pour objectif de faire danser toutes les générations jusqu’au bout de la soirée.\n  \n\n    Buvette et restauration sur place\n\n\n\n\n 
URL:https://www.erbree.fr/agenda/erbree-bamboche-la-bamboche-summer/
LOCATION:Place de l’Église\, Erbrée\, 35500
CATEGORIES:Association Erbréenne
ORGANIZER;CN="Erbr%C3%A9e-Bamboche":MAILTO:erbree.bamboche@gmail.com
END:VEVENT
END:VCALENDAR