BEGIN:VCALENDAR
VERSION:2.0
PRODID:-//Erbrée - ECPv6.15.20//NONSGML v1.0//EN
CALSCALE:GREGORIAN
METHOD:PUBLISH
X-ORIGINAL-URL:https://www.erbree.fr
X-WR-CALDESC:Évènements pour Erbrée
REFRESH-INTERVAL;VALUE=DURATION:PT1H
X-Robots-Tag:noindex
X-PUBLISHED-TTL:PT1H
BEGIN:VTIMEZONE
TZID:Europe/Paris
BEGIN:DAYLIGHT
TZOFFSETFROM:+0100
TZOFFSETTO:+0200
TZNAME:CEST
DTSTART:20250330T010000
END:DAYLIGHT
BEGIN:STANDARD
TZOFFSETFROM:+0200
TZOFFSETTO:+0100
TZNAME:CET
DTSTART:20251026T010000
END:STANDARD
BEGIN:DAYLIGHT
TZOFFSETFROM:+0100
TZOFFSETTO:+0200
TZNAME:CEST
DTSTART:20260329T010000
END:DAYLIGHT
BEGIN:STANDARD
TZOFFSETFROM:+0200
TZOFFSETTO:+0100
TZNAME:CET
DTSTART:20261025T010000
END:STANDARD
BEGIN:DAYLIGHT
TZOFFSETFROM:+0100
TZOFFSETTO:+0200
TZNAME:CEST
DTSTART:20270328T010000
END:DAYLIGHT
BEGIN:STANDARD
TZOFFSETFROM:+0200
TZOFFSETTO:+0100
TZNAME:CET
DTSTART:20271031T010000
END:STANDARD
END:VTIMEZONE
BEGIN:VEVENT
DTSTART;TZID=Europe/Paris:20261201T094500
DTEND;TZID=Europe/Paris:20261201T110000
DTSTAMP:20260422T041929
CREATED:20251028T174928Z
LAST-MODIFIED:20251028T174928Z
UID:28313-1796118300-1796122800@www.erbree.fr
SUMMARY:Relais Petite Enfance : Atelier d’éveil 0-3 ans
DESCRIPTION:Réservé aux professionnels(les) de la petite enfance\nSur inscription
URL:https://www.erbree.fr/agenda/relais-petite-enfance-atelier-deveil-0-3-ans-31/
LOCATION:Espace Multifonctions René Blandeau\, Ruelle des Lavandières\, ERBRÉE\, 35500
ORGANIZER;CN="Relais Petite Enfance (RPE)":MAILTO:rpe@chatillon-en-vendelais.fr
END:VEVENT
END:VCALENDAR