BEGIN:VCALENDAR
VERSION:2.0
PRODID:-//Erbrée - ECPv6.15.20//NONSGML v1.0//EN
CALSCALE:GREGORIAN
METHOD:PUBLISH
X-ORIGINAL-URL:https://www.erbree.fr
X-WR-CALDESC:Évènements pour Erbrée
REFRESH-INTERVAL;VALUE=DURATION:PT1H
X-Robots-Tag:noindex
X-PUBLISHED-TTL:PT1H
BEGIN:VTIMEZONE
TZID:Europe/Paris
BEGIN:DAYLIGHT
TZOFFSETFROM:+0100
TZOFFSETTO:+0200
TZNAME:CEST
DTSTART:20250330T010000
END:DAYLIGHT
BEGIN:STANDARD
TZOFFSETFROM:+0200
TZOFFSETTO:+0100
TZNAME:CET
DTSTART:20251026T010000
END:STANDARD
BEGIN:DAYLIGHT
TZOFFSETFROM:+0100
TZOFFSETTO:+0200
TZNAME:CEST
DTSTART:20260329T010000
END:DAYLIGHT
BEGIN:STANDARD
TZOFFSETFROM:+0200
TZOFFSETTO:+0100
TZNAME:CET
DTSTART:20261025T010000
END:STANDARD
BEGIN:DAYLIGHT
TZOFFSETFROM:+0100
TZOFFSETTO:+0200
TZNAME:CEST
DTSTART:20270328T010000
END:DAYLIGHT
BEGIN:STANDARD
TZOFFSETFROM:+0200
TZOFFSETTO:+0100
TZNAME:CET
DTSTART:20271031T010000
END:STANDARD
END:VTIMEZONE
BEGIN:VEVENT
DTSTART;TZID=Europe/Paris:20260401T140000
DTEND;TZID=Europe/Paris:20260401T160000
DTSTAMP:20260421T135545
CREATED:20251211T165859Z
LAST-MODIFIED:20260317T175651Z
UID:28899-1775052000-1775059200@www.erbree.fr
SUMMARY:Bibliothèque : La souris verte
DESCRIPTION:  \nL’inscription préalable est nécessaire pour certaines animations\n  \nIl est possible de s’inscrire : \n\nen ligne : Bibliothèque – Inscription en ligne\npar mail : biblio@erbree.fr\npar téléphone : 09 62 58 60 21\n\n \n 
URL:https://www.erbree.fr/agenda/bibliotheque-la-souris-verte-4/
LOCATION:Bibliothèque\, Rue de Bretagne\, Erbrée\, 35500
ORGANIZER;CN="Biblioth%C3%A8que":MAILTO:biblio@erbree.fr
END:VEVENT
BEGIN:VEVENT
DTSTART;TZID=Europe/Paris:20260401T160000
DTEND;TZID=Europe/Paris:20260401T163000
DTSTAMP:20260421T135545
CREATED:20251211T170031Z
LAST-MODIFIED:20251211T170031Z
UID:28901-1775059200-1775061000@www.erbree.fr
SUMMARY:Bibliothèque : Raconte-moi une histoire !
DESCRIPTION:
URL:https://www.erbree.fr/agenda/bibliotheque-raconte-moi-une-histoire-12/
LOCATION:Bibliothèque\, Rue de Bretagne\, Erbrée\, 35500
ORGANIZER;CN="Biblioth%C3%A8que":MAILTO:biblio@erbree.fr
END:VEVENT
END:VCALENDAR