BEGIN:VCALENDAR
VERSION:2.0
PRODID:-//Erbrée - ECPv6.15.20//NONSGML v1.0//EN
CALSCALE:GREGORIAN
METHOD:PUBLISH
X-ORIGINAL-URL:https://www.erbree.fr
X-WR-CALDESC:Évènements pour Erbrée
REFRESH-INTERVAL;VALUE=DURATION:PT1H
X-Robots-Tag:noindex
X-PUBLISHED-TTL:PT1H
BEGIN:VTIMEZONE
TZID:Europe/Paris
BEGIN:DAYLIGHT
TZOFFSETFROM:+0100
TZOFFSETTO:+0200
TZNAME:CEST
DTSTART:20250330T010000
END:DAYLIGHT
BEGIN:STANDARD
TZOFFSETFROM:+0200
TZOFFSETTO:+0100
TZNAME:CET
DTSTART:20251026T010000
END:STANDARD
BEGIN:DAYLIGHT
TZOFFSETFROM:+0100
TZOFFSETTO:+0200
TZNAME:CEST
DTSTART:20260329T010000
END:DAYLIGHT
BEGIN:STANDARD
TZOFFSETFROM:+0200
TZOFFSETTO:+0100
TZNAME:CET
DTSTART:20261025T010000
END:STANDARD
BEGIN:DAYLIGHT
TZOFFSETFROM:+0100
TZOFFSETTO:+0200
TZNAME:CEST
DTSTART:20270328T010000
END:DAYLIGHT
BEGIN:STANDARD
TZOFFSETFROM:+0200
TZOFFSETTO:+0100
TZNAME:CET
DTSTART:20271031T010000
END:STANDARD
END:VTIMEZONE
BEGIN:VEVENT
DTSTART;TZID=Europe/Paris:20260218T200000
DTEND;TZID=Europe/Paris:20260218T200000
DTSTAMP:20260421T172833
CREATED:20260216T141837Z
LAST-MODIFIED:20260216T142455Z
UID:30315-1771444800-1771444800@www.erbree.fr
SUMMARY:Réunion du Conseil Municipal
DESCRIPTION:Le Conseil Municipal se réunira à la mairie \nLe MERCREDI 18 février à 20h\n  \nOrdre du jour :\n* Approbation du compte-rendu de la séance du 14/01/26\n* Réalisations dans le cadre des délégations accordées au Maire\n* Projet d’un nouveau lotissement communal\n* Prise en charge des dépenses d’investissement avant le vote du budget primitif 2026\n* Vote des subventions aux associations\n* Débat d’orientation budgétaire 2025\n* Spectacle de magie : encaissement des entrées des enfants non-inscrits à l’ALSH\n* Questions diverses
URL:https://www.erbree.fr/agenda/reunion-du-conseil-municipal-12/
LOCATION:Mairie\, 12 rue de Bretagne\, Erbrée\, 35500
ORGANIZER;CN="Mairie":MAILTO:mairie@erbree.fr
END:VEVENT
END:VCALENDAR