BEGIN:VCALENDAR
VERSION:2.0
PRODID:-//Erbrée - ECPv6.15.20//NONSGML v1.0//EN
CALSCALE:GREGORIAN
METHOD:PUBLISH
X-WR-CALNAME:Erbrée
X-ORIGINAL-URL:https://www.erbree.fr
X-WR-CALDESC:Évènements pour Erbrée
REFRESH-INTERVAL;VALUE=DURATION:PT1H
X-Robots-Tag:noindex
X-PUBLISHED-TTL:PT1H
BEGIN:VTIMEZONE
TZID:Europe/Paris
BEGIN:DAYLIGHT
TZOFFSETFROM:+0100
TZOFFSETTO:+0200
TZNAME:CEST
DTSTART:20240331T010000
END:DAYLIGHT
BEGIN:STANDARD
TZOFFSETFROM:+0200
TZOFFSETTO:+0100
TZNAME:CET
DTSTART:20241027T010000
END:STANDARD
BEGIN:DAYLIGHT
TZOFFSETFROM:+0100
TZOFFSETTO:+0200
TZNAME:CEST
DTSTART:20250330T010000
END:DAYLIGHT
BEGIN:STANDARD
TZOFFSETFROM:+0200
TZOFFSETTO:+0100
TZNAME:CET
DTSTART:20251026T010000
END:STANDARD
BEGIN:DAYLIGHT
TZOFFSETFROM:+0100
TZOFFSETTO:+0200
TZNAME:CEST
DTSTART:20260329T010000
END:DAYLIGHT
BEGIN:STANDARD
TZOFFSETFROM:+0200
TZOFFSETTO:+0100
TZNAME:CET
DTSTART:20261025T010000
END:STANDARD
END:VTIMEZONE
BEGIN:VEVENT
DTSTART;TZID=Europe/Paris:20251126T200000
DTEND;TZID=Europe/Paris:20251126T200000
DTSTAMP:20260421T234819
CREATED:20251121T142727Z
LAST-MODIFIED:20251121T142817Z
UID:28571-1764187200-1764187200@www.erbree.fr
SUMMARY:Réunion du Conseil Municipal
DESCRIPTION:Le Conseil Municipal se réunira à la mairie \nLe MERCREDI 26 NOVEMBRE à 20h\n  \nOrdre du jour :\n* Approbation du compte-rendu de la séance du 15/10/2025\n* Réalisations dans le cadre des délégations accordées au Maire\n* Avis sur demande d’autorisation environnementale Société Laitière de Vitré\n* Constitution d’une servitude de réseau et d’ancrage d’un candélabre\n* Proposition cession portion de terrain place des Ormes\n* Proposition acquisition d’un terrain à la Serverie\n* Proposition acquisition d’un terrain – OAP de la Valière\n* Rapport d’activité 2024 de Vitré Communauté\n* Nouvelle convention d’adhésion au service commun « Systèmes d’information »\n* Indemnité gardiennage de l’église\n* Décision modificative : budget Commune\n* Questions diverses
URL:https://www.erbree.fr/agenda/reunion-du-conseil-municipal-9/
LOCATION:Mairie\, 12 rue de Bretagne\, Erbrée\, 35500
END:VEVENT
END:VCALENDAR