BEGIN:VCALENDAR
VERSION:2.0
PRODID:-//Erbrée - ECPv6.15.20//NONSGML v1.0//EN
CALSCALE:GREGORIAN
METHOD:PUBLISH
X-WR-CALNAME:Erbrée
X-ORIGINAL-URL:https://www.erbree.fr
X-WR-CALDESC:Évènements pour Erbrée
REFRESH-INTERVAL;VALUE=DURATION:PT1H
X-Robots-Tag:noindex
X-PUBLISHED-TTL:PT1H
BEGIN:VTIMEZONE
TZID:Europe/Paris
BEGIN:DAYLIGHT
TZOFFSETFROM:+0100
TZOFFSETTO:+0200
TZNAME:CEST
DTSTART:20240331T010000
END:DAYLIGHT
BEGIN:STANDARD
TZOFFSETFROM:+0200
TZOFFSETTO:+0100
TZNAME:CET
DTSTART:20241027T010000
END:STANDARD
BEGIN:DAYLIGHT
TZOFFSETFROM:+0100
TZOFFSETTO:+0200
TZNAME:CEST
DTSTART:20250330T010000
END:DAYLIGHT
BEGIN:STANDARD
TZOFFSETFROM:+0200
TZOFFSETTO:+0100
TZNAME:CET
DTSTART:20251026T010000
END:STANDARD
BEGIN:DAYLIGHT
TZOFFSETFROM:+0100
TZOFFSETTO:+0200
TZNAME:CEST
DTSTART:20260329T010000
END:DAYLIGHT
BEGIN:STANDARD
TZOFFSETFROM:+0200
TZOFFSETTO:+0100
TZNAME:CET
DTSTART:20261025T010000
END:STANDARD
END:VTIMEZONE
BEGIN:VEVENT
DTSTART;TZID=Europe/Paris:20250514T200000
DTEND;TZID=Europe/Paris:20250514T200000
DTSTAMP:20260422T092610
CREATED:20241217T170529Z
LAST-MODIFIED:20250509T065715Z
UID:24866-1747252800-1747252800@www.erbree.fr
SUMMARY:Réunion du Conseil Municipal
DESCRIPTION:Le Conseil Municipal se réunira à la mairie \nLe MERCREDI 14 MAI à 20h\n  \nOrdre du jour :\n* Approbation du compte-rendu de la séance du 23/04/2025\n* Réalisations dans le cadre des délégations accordées au Maire\n* Rénovation énergétique bâtiment de la bibliothèque et salle des associations\n* Aménagements urbains : avenant maîtrise d’œuvre\n* Acquisition parcelle de terrain rue de la Valière\n* Taxe d’aménagement : exonération pour les maisons de santé\n* Décision modificative au budget\n* Proposition réalisation emprunt (sous réserve)\n* Compte épargne temps : indemnisation des droits épargnés\n* Questions diverses
URL:https://www.erbree.fr/agenda/reunion-du-conseil-municipal-2/
LOCATION:Mairie\, 12 rue de Bretagne\, Erbrée\, 35500
ORGANIZER;CN="Mairie":MAILTO:mairie@erbree.fr
END:VEVENT
END:VCALENDAR